BEGIN:VCALENDAR
VERSION:2.0
PRODID:-//Riley Brockington, City Councillor (River Ward) - ECPv6.8.3//NONSGML v1.0//EN
CALSCALE:GREGORIAN
METHOD:PUBLISH
X-WR-CALNAME:Riley Brockington, City Councillor (River Ward)
X-ORIGINAL-URL:https://rileybrockington.ca
X-WR-CALDESC:Events for Riley Brockington, City Councillor (River Ward)
REFRESH-INTERVAL;VALUE=DURATION:PT1H
X-Robots-Tag:noindex
X-PUBLISHED-TTL:PT1H
BEGIN:VTIMEZONE
TZID:America/New_York
BEGIN:DAYLIGHT
TZOFFSETFROM:-0500
TZOFFSETTO:-0400
TZNAME:EDT
DTSTART:20180311T070000
END:DAYLIGHT
BEGIN:STANDARD
TZOFFSETFROM:-0400
TZOFFSETTO:-0500
TZNAME:EST
DTSTART:20181104T060000
END:STANDARD
END:VTIMEZONE
BEGIN:VEVENT
DTSTART;TZID=America/New_York:20181023T150000
DTEND;TZID=America/New_York:20181023T180000
DTSTAMP:20260424T193439
CREATED:20181023T150336Z
LAST-MODIFIED:20181023T150336Z
UID:14014-1540306800-1540317600@rileybrockington.ca
SUMMARY:Taking Care of Yourself and Your Community - Carlington Community Health Centre
DESCRIPTION:
URL:https://rileybrockington.ca/event/taking-care-of-yourself-and-your-community-carlington-community-health-centre/
LOCATION:Carlington Community Health Centre\, 900 Merivale Rd\, Ottawa\, ON\, K1Z 5Z8\, Canada
CATEGORIES:General
END:VEVENT
END:VCALENDAR