BEGIN:VCALENDAR
VERSION:2.0
PRODID:-//Riley Brockington, City Councillor (River Ward) - ECPv6.8.3//NONSGML v1.0//EN
CALSCALE:GREGORIAN
METHOD:PUBLISH
X-ORIGINAL-URL:https://rileybrockington.ca
X-WR-CALDESC:Events for Riley Brockington, City Councillor (River Ward)
REFRESH-INTERVAL;VALUE=DURATION:PT1H
X-Robots-Tag:noindex
X-PUBLISHED-TTL:PT1H
BEGIN:VTIMEZONE
TZID:America/New_York
BEGIN:DAYLIGHT
TZOFFSETFROM:-0500
TZOFFSETTO:-0400
TZNAME:EDT
DTSTART:20190310T070000
END:DAYLIGHT
BEGIN:STANDARD
TZOFFSETFROM:-0400
TZOFFSETTO:-0500
TZNAME:EST
DTSTART:20191103T060000
END:STANDARD
END:VTIMEZONE
BEGIN:VEVENT
DTSTART;TZID=America/New_York:20190503T200000
DTEND;TZID=America/New_York:20190503T230000
DTSTAMP:20260424T073810
CREATED:20190416T134904Z
LAST-MODIFIED:20190416T134950Z
UID:14369-1556913600-1556924400@rileybrockington.ca
SUMMARY:SwingDance at Riverside United Church
DESCRIPTION:
URL:https://rileybrockington.ca/event/swingdance-at-riverside-united-church/
LOCATION:Riverside Churches\, 3191 Riverside Drive\, Ottawa\, ON\, K1V 8N8\, Canada
CATEGORIES:General
END:VEVENT
END:VCALENDAR