BEGIN:VCALENDAR
VERSION:2.0
PRODID:-//Riley Brockington, City Councillor (River Ward) - ECPv6.8.3//NONSGML v1.0//EN
CALSCALE:GREGORIAN
METHOD:PUBLISH
X-ORIGINAL-URL:https://rileybrockington.ca
X-WR-CALDESC:Events for Riley Brockington, City Councillor (River Ward)
REFRESH-INTERVAL;VALUE=DURATION:PT1H
X-Robots-Tag:noindex
X-PUBLISHED-TTL:PT1H
BEGIN:VTIMEZONE
TZID:America/New_York
BEGIN:DAYLIGHT
TZOFFSETFROM:-0500
TZOFFSETTO:-0400
TZNAME:EDT
DTSTART:20190310T070000
END:DAYLIGHT
BEGIN:STANDARD
TZOFFSETFROM:-0400
TZOFFSETTO:-0500
TZNAME:EST
DTSTART:20191103T060000
END:STANDARD
END:VTIMEZONE
BEGIN:VEVENT
DTSTART;VALUE=DATE:20190615
DTEND;VALUE=DATE:20190617
DTSTAMP:20260424T060912
CREATED:20190604T134909Z
LAST-MODIFIED:20190604T134909Z
UID:14483-1560556800-1560729599@rileybrockington.ca
SUMMARY:Friends of the Farm Annual Book Sale
DESCRIPTION:
URL:https://rileybrockington.ca/event/friends-of-the-farm-annual-book-sale/
LOCATION:Arboretum\, Central Experimental Farm\, 960 Carling Ave\, Ottawa
CATEGORIES:General
END:VEVENT
BEGIN:VEVENT
DTSTART;TZID=America/New_York:20190615T110000
DTEND;TZID=America/New_York:20190615T150000
DTSTAMP:20260424T060912
CREATED:20190604T141220Z
LAST-MODIFIED:20190613T191920Z
UID:14486-1560596400-1560610800@rileybrockington.ca
SUMMARY:Hunt Club Arts in the Park - CANCELLED DUE TO WEATHER
DESCRIPTION:This event has been cancelled due to the forecast and will be rescheduled. \n  \n 
URL:https://rileybrockington.ca/event/hunt-club-arts-in-the-park/
LOCATION:Paul Landry Park\, 3345 Uplands Drive\, Ottawa
CATEGORIES:General
END:VEVENT
END:VCALENDAR