BEGIN:VCALENDAR
VERSION:2.0
PRODID:-//Riley Brockington, City Councillor (River Ward) - ECPv6.8.3//NONSGML v1.0//EN
CALSCALE:GREGORIAN
METHOD:PUBLISH
X-WR-CALNAME:Riley Brockington, City Councillor (River Ward)
X-ORIGINAL-URL:https://rileybrockington.ca
X-WR-CALDESC:Events for Riley Brockington, City Councillor (River Ward)
REFRESH-INTERVAL;VALUE=DURATION:PT1H
X-Robots-Tag:noindex
X-PUBLISHED-TTL:PT1H
BEGIN:VTIMEZONE
TZID:America/New_York
BEGIN:DAYLIGHT
TZOFFSETFROM:-0500
TZOFFSETTO:-0400
TZNAME:EDT
DTSTART:20190310T070000
END:DAYLIGHT
BEGIN:STANDARD
TZOFFSETFROM:-0400
TZOFFSETTO:-0500
TZNAME:EST
DTSTART:20191103T060000
END:STANDARD
END:VTIMEZONE
BEGIN:VEVENT
DTSTART;TZID=America/New_York:20190629T150000
DTEND;TZID=America/New_York:20190629T190000
DTSTAMP:20260424T060854
CREATED:20190621T131131Z
LAST-MODIFIED:20190621T131131Z
UID:14519-1561820400-1561834800@rileybrockington.ca
SUMMARY:International Taste of Caldwell - Canada Day Wknd
DESCRIPTION:
URL:https://rileybrockington.ca/event/international-taste-of-caldwell-canada-day-wknd/
LOCATION:Caldwell Gym\, 1520 Caldwell Ave\, Ottawa
CATEGORIES:General
END:VEVENT
END:VCALENDAR