BEGIN:VCALENDAR
VERSION:2.0
PRODID:-//Riley Brockington, City Councillor (River Ward) - ECPv6.8.3//NONSGML v1.0//EN
CALSCALE:GREGORIAN
METHOD:PUBLISH
X-WR-CALNAME:Riley Brockington, City Councillor (River Ward)
X-ORIGINAL-URL:https://rileybrockington.ca
X-WR-CALDESC:Events for Riley Brockington, City Councillor (River Ward)
REFRESH-INTERVAL;VALUE=DURATION:PT1H
X-Robots-Tag:noindex
X-PUBLISHED-TTL:PT1H
BEGIN:VTIMEZONE
TZID:America/New_York
BEGIN:DAYLIGHT
TZOFFSETFROM:-0500
TZOFFSETTO:-0400
TZNAME:EDT
DTSTART:20200308T070000
END:DAYLIGHT
BEGIN:STANDARD
TZOFFSETFROM:-0400
TZOFFSETTO:-0500
TZNAME:EST
DTSTART:20201101T060000
END:STANDARD
END:VTIMEZONE
BEGIN:VEVENT
DTSTART;TZID=America/New_York:20200204T130000
DTEND;TZID=America/New_York:20200204T140000
DTSTAMP:20260423T152007
CREATED:20200127T193439Z
LAST-MODIFIED:20200127T193439Z
UID:15336-1580821200-1580824800@rileybrockington.ca
SUMMARY:Coffee and Conversation - Bellevue Community Centre Open House
DESCRIPTION:
URL:https://rileybrockington.ca/event/coffee-and-conversation-bellevue-community-centre-open-house/
LOCATION:bellevue community centre\, 1475 Caldwell Avenue\, Ottawa\, On\, Canada
CATEGORIES:General
END:VEVENT
END:VCALENDAR