BEGIN:VCALENDAR
VERSION:2.0
PRODID:-//Riley Brockington, City Councillor (River Ward) - ECPv6.8.3//NONSGML v1.0//EN
CALSCALE:GREGORIAN
METHOD:PUBLISH
X-ORIGINAL-URL:https://rileybrockington.ca
X-WR-CALDESC:Events for Riley Brockington, City Councillor (River Ward)
REFRESH-INTERVAL;VALUE=DURATION:PT1H
X-Robots-Tag:noindex
X-PUBLISHED-TTL:PT1H
BEGIN:VTIMEZONE
TZID:America/New_York
BEGIN:DAYLIGHT
TZOFFSETFROM:-0500
TZOFFSETTO:-0400
TZNAME:EDT
DTSTART:20200308T070000
END:DAYLIGHT
BEGIN:STANDARD
TZOFFSETFROM:-0400
TZOFFSETTO:-0500
TZNAME:EST
DTSTART:20201101T060000
END:STANDARD
END:VTIMEZONE
BEGIN:VEVENT
DTSTART;TZID=America/New_York:20200206T190000
DTEND;TZID=America/New_York:20200206T210000
DTSTAMP:20260423T152015
CREATED:20200116T204852Z
LAST-MODIFIED:20200116T204943Z
UID:15232-1581015600-1581022800@rileybrockington.ca
SUMMARY:Wildlife Speaker Series - Coyotes
DESCRIPTION:The City will be hosting our 15th Wildlife Speaker Series event on the evening of February 6\, at Ottawa City Hall.  The topic of this event\, Living with Coyotes\, may be of interest to you  The guest speaker will be Dr. Stan Gehrt from The Ohio State University.  He was the presenter at the city’s very first Wildlife Speaker Series event in February 2014\, giving residents a fascinating look into how coyotes can coexist with people in a variety of urban and suburban settings. At the next session\, we will hear about his ongoing 20-year study of the coyotes living in and around the City of Chicago. \nAdditional information about this event is available on the City’s web page: \nhttps://ottawa.ca/en/living-ottawa/environment/wildlife/wildlife-speaker-series#living-coyotes-february-6-2020 \n7pm – 8pm – Open house /Expo \n8pm – Opening Remarks and Presentation
URL:https://rileybrockington.ca/event/wildlife-speaker-series-coyotes/
LOCATION:city hall
END:VEVENT
BEGIN:VEVENT
DTSTART;TZID=America/New_York:20200206T193000
DTEND;TZID=America/New_York:20200206T210000
DTSTAMP:20260423T152015
CREATED:20200127T203354Z
LAST-MODIFIED:20200127T203354Z
UID:15343-1581017400-1581022800@rileybrockington.ca
SUMMARY:Slam Poetry Workshops
DESCRIPTION:
URL:https://rileybrockington.ca/event/slam-poetry-workshops-2/
LOCATION:bellevue community centre\, 1475 Caldwell Avenue\, Ottawa\, On\, Canada
CATEGORIES:General
END:VEVENT
END:VCALENDAR