BEGIN:VCALENDAR
VERSION:2.0
PRODID:-//Riley Brockington, City Councillor (River Ward) - ECPv6.8.3//NONSGML v1.0//EN
CALSCALE:GREGORIAN
METHOD:PUBLISH
X-WR-CALNAME:Riley Brockington, City Councillor (River Ward)
X-ORIGINAL-URL:https://rileybrockington.ca
X-WR-CALDESC:Events for Riley Brockington, City Councillor (River Ward)
REFRESH-INTERVAL;VALUE=DURATION:PT1H
X-Robots-Tag:noindex
X-PUBLISHED-TTL:PT1H
BEGIN:VTIMEZONE
TZID:America/New_York
BEGIN:DAYLIGHT
TZOFFSETFROM:-0500
TZOFFSETTO:-0400
TZNAME:EDT
DTSTART:20200308T070000
END:DAYLIGHT
BEGIN:STANDARD
TZOFFSETFROM:-0400
TZOFFSETTO:-0500
TZNAME:EST
DTSTART:20201101T060000
END:STANDARD
END:VTIMEZONE
BEGIN:VEVENT
DTSTART;TZID=America/New_York:20200212T190000
DTEND;TZID=America/New_York:20200212T203000
DTSTAMP:20260423T152019
CREATED:20200123T210659Z
LAST-MODIFIED:20200123T210659Z
UID:15319-1581534000-1581539400@rileybrockington.ca
SUMMARY:Official Plan and Transportation Master Plan Information Session
DESCRIPTION:Residents are invited to a Public Information Session to learn more about the City’s update to the Official Plan (OP) and Transportation Master Plan (TMP). The session will take place on Wednesday\, February 12 at 7:00pm in the Kathy Ablett Room at the Hunt Club Riverside Park Community Centre\, 3320 Paul Anka Drive. \nThis term of council\, the City of Ottawa will be undertaking the review of the Official Plan and Transportation Master Plan documents. The OP provides the policy framework which will guide the city’s physical development into the future\, while the TMP is the City’s blueprint for planning\, developing and operating its walking\, cycling\, transit and road networks over the next two decades. \n 
URL:https://rileybrockington.ca/event/official-plan-and-transportation-master-plan-information-session/
LOCATION:Hunt Club-Riverside Park Community Centre\, 3320 Paul Anka Drive\, Ottawa\, ON\, Canada
CATEGORIES:General
END:VEVENT
END:VCALENDAR