BEGIN:VCALENDAR
VERSION:2.0
PRODID:-//Riley Brockington, City Councillor (River Ward) - ECPv6.8.3//NONSGML v1.0//EN
CALSCALE:GREGORIAN
METHOD:PUBLISH
X-WR-CALNAME:Riley Brockington, City Councillor (River Ward)
X-ORIGINAL-URL:https://rileybrockington.ca
X-WR-CALDESC:Events for Riley Brockington, City Councillor (River Ward)
REFRESH-INTERVAL;VALUE=DURATION:PT1H
X-Robots-Tag:noindex
X-PUBLISHED-TTL:PT1H
BEGIN:VTIMEZONE
TZID:America/New_York
BEGIN:DAYLIGHT
TZOFFSETFROM:-0500
TZOFFSETTO:-0400
TZNAME:EDT
DTSTART:20200308T070000
END:DAYLIGHT
BEGIN:STANDARD
TZOFFSETFROM:-0400
TZOFFSETTO:-0500
TZNAME:EST
DTSTART:20201101T060000
END:STANDARD
END:VTIMEZONE
BEGIN:VEVENT
DTSTART;TZID=America/New_York:20200213T173000
DTEND;TZID=America/New_York:20200213T183000
DTSTAMP:20260423T152017
CREATED:20200205T234419Z
LAST-MODIFIED:20200205T234633Z
UID:15379-1581615000-1581618600@rileybrockington.ca
SUMMARY:Kathy Ablett Room Commemorative Naming
DESCRIPTION:I am pleased to invite you to attend the unveiling of the Kathy Ablett Room in the Hunt Club Riverside Park Community Centre on Thursday February 13 at 5:30pm. \nThis will be a great day with members of the Ottawa Catholic School Board\, staff and Trustees\, local community leaders\, members of the Ablett Family\, Mayor Watson and myself. \nLight refreshments to follow the ceremony. \n  \nKathy Ablett (Ward 16 – River) \nIn recognition of her exceptional contribution to the Catholic School Board and Hunt Club Community\, the City of Ottawa received a proposal to name the seniors room in the Hunt Club Riverside Park Community Centre\, the Kathy Ablett Room. Kathy Ablett began her professional life as a registered nurse in a family practice office in the Riverside Mall on Ridgewood Avenue. \nWhile her children attended Holy Family School\, Kathy organized parent-teacher activities\, such as dances and fairs. Her increasing involvement in Board-related activities ultimately led to her election as a Catholic School Board Trustee\, where she served for 27 years. Mrs. Ablett was also an active member in her community\, serving as the President of the Hunt Club Community Association\, Vice-Chair of the Ottawa Public Library Board\, and President of the Family Practice Nurses Group. In 2009\, Trustee Ablett was honoured with the Ontario Catholic School Trustees’ Association Award of Merit for her exceptional service to Catholic Education. \nShe received the Success by Six award from United Way Ottawa\, in recognition of her efforts to provide education opportunities for young children. This commemorative naming proposal seeks to recognize Kathy Ablett’s exceptional service and dedication to the Catholic School Board and Hunt Club community. \nMrs. Ablett passed away in May 2018.
URL:https://rileybrockington.ca/event/kathy-ablett-room-commemorative-naming/
LOCATION:Hunt Club-Riverside Park Community Centre\, 3320 Paul Anka Drive\, Ottawa\, ON\, Canada
CATEGORIES:General
END:VEVENT
BEGIN:VEVENT
DTSTART;TZID=America/New_York:20200213T183000
DTEND;TZID=America/New_York:20200213T203000
DTSTAMP:20260423T152017
CREATED:20200203T211032Z
LAST-MODIFIED:20200210T174050Z
UID:15350-1581618600-1581625800@rileybrockington.ca
SUMMARY:Stage 2 LRT Public Meeting
DESCRIPTION:River Ward residents are invited to attend an information session on the Stage 2 LRT project on\nThursday\, February 13 at 6:30pm at Jim Durrell Arena\, 1265 Walkley Road. The intent of the meeting is to share information on the Stage 2 LRT and specifically the Trillium Line extension\, the Trillium shutdown in May 2020\, and the station progress from Carleton University to South Keys. \n6:30-6:55 – Open House\, view display boards\n6:55-7:00 – Welcome remarks\n7:00-7:30 – Presentation\n7:30-8:00 – Q&A\n8:00-8:30 – Opportunity to speak one-on-one with staff
URL:https://rileybrockington.ca/event/stage-2-lrt-public-meeting-2/
LOCATION:Jim Durrell Arena\, 1265 Walkley Road\, Ottawa\, ON\, Canada
CATEGORIES:General
END:VEVENT
END:VCALENDAR