BEGIN:VCALENDAR
VERSION:2.0
PRODID:-//Riley Brockington, City Councillor (River Ward) - ECPv6.8.3//NONSGML v1.0//EN
CALSCALE:GREGORIAN
METHOD:PUBLISH
X-WR-CALNAME:Riley Brockington, City Councillor (River Ward)
X-ORIGINAL-URL:https://rileybrockington.ca
X-WR-CALDESC:Events for Riley Brockington, City Councillor (River Ward)
REFRESH-INTERVAL;VALUE=DURATION:PT1H
X-Robots-Tag:noindex
X-PUBLISHED-TTL:PT1H
BEGIN:VTIMEZONE
TZID:America/New_York
BEGIN:DAYLIGHT
TZOFFSETFROM:-0500
TZOFFSETTO:-0400
TZNAME:EDT
DTSTART:20200308T070000
END:DAYLIGHT
BEGIN:STANDARD
TZOFFSETFROM:-0400
TZOFFSETTO:-0500
TZNAME:EST
DTSTART:20201101T060000
END:STANDARD
END:VTIMEZONE
BEGIN:VEVENT
DTSTART;TZID=America/New_York:20200225T143000
DTEND;TZID=America/New_York:20200225T160000
DTSTAMP:20260423T135530
CREATED:20200206T202148Z
LAST-MODIFIED:20200206T202148Z
UID:15382-1582641000-1582646400@rileybrockington.ca
SUMMARY:Ottawa Public Library - Income Tax Information Clinic
DESCRIPTION:
URL:https://rileybrockington.ca/event/ottawa-public-library-income-tax-information-clinic/
LOCATION:Hunt Club-Riverside Park Community Centre\, 3320 Paul Anka Drive\, Ottawa\, ON\, Canada
CATEGORIES:General
END:VEVENT
END:VCALENDAR