BEGIN:VCALENDAR
VERSION:2.0
PRODID:-//Riley Brockington, City Councillor (River Ward) - ECPv6.8.3//NONSGML v1.0//EN
CALSCALE:GREGORIAN
METHOD:PUBLISH
X-WR-CALNAME:Riley Brockington, City Councillor (River Ward)
X-ORIGINAL-URL:https://rileybrockington.ca
X-WR-CALDESC:Events for Riley Brockington, City Councillor (River Ward)
REFRESH-INTERVAL;VALUE=DURATION:PT1H
X-Robots-Tag:noindex
X-PUBLISHED-TTL:PT1H
BEGIN:VTIMEZONE
TZID:America/New_York
BEGIN:DAYLIGHT
TZOFFSETFROM:-0500
TZOFFSETTO:-0400
TZNAME:EDT
DTSTART:20200308T070000
END:DAYLIGHT
BEGIN:STANDARD
TZOFFSETFROM:-0400
TZOFFSETTO:-0500
TZNAME:EST
DTSTART:20201101T060000
END:STANDARD
END:VTIMEZONE
BEGIN:VEVENT
DTSTART;TZID=America/New_York:20200309T190000
DTEND;TZID=America/New_York:20200309T210000
DTSTAMP:20260423T135648
CREATED:20200226T205600Z
LAST-MODIFIED:20200226T205600Z
UID:15443-1583780400-1583787600@rileybrockington.ca
SUMMARY:Climate Change and Urban Forest Management Presentation
DESCRIPTION:Monday\, March 9\, 2020: The Hunt Club Community Association’s Environment Committee is hosting a presentation from the City of Ottawa’s Climate Change and Resiliency Team and the Urban Forest Management Team at 7pm at the Hunt Club Riverside Park Community Centre. \n3320 Paul Anka Drive \nAll welcome to attend.
URL:https://rileybrockington.ca/event/climate-change-and-urban-forest-management-presentation/
LOCATION:Hunt Club-Riverside Park Community Centre\, 3320 Paul Anka Drive\, Ottawa\, ON\, Canada
CATEGORIES:General
END:VEVENT
END:VCALENDAR