BEGIN:VCALENDAR
VERSION:2.0
PRODID:-//Riley Brockington, City Councillor (River Ward) - ECPv6.8.3//NONSGML v1.0//EN
CALSCALE:GREGORIAN
METHOD:PUBLISH
X-WR-CALNAME:Riley Brockington, City Councillor (River Ward)
X-ORIGINAL-URL:https://rileybrockington.ca
X-WR-CALDESC:Events for Riley Brockington, City Councillor (River Ward)
REFRESH-INTERVAL;VALUE=DURATION:PT1H
X-Robots-Tag:noindex
X-PUBLISHED-TTL:PT1H
BEGIN:VTIMEZONE
TZID:America/New_York
BEGIN:DAYLIGHT
TZOFFSETFROM:-0500
TZOFFSETTO:-0400
TZNAME:EDT
DTSTART:20200308T070000
END:DAYLIGHT
BEGIN:STANDARD
TZOFFSETFROM:-0400
TZOFFSETTO:-0500
TZNAME:EST
DTSTART:20201101T060000
END:STANDARD
END:VTIMEZONE
BEGIN:VEVENT
DTSTART;TZID=America/New_York:20200409T140000
DTEND;TZID=America/New_York:20200409T150000
DTSTAMP:20260423T123517
CREATED:20200403T175706Z
LAST-MODIFIED:20200403T175706Z
UID:15769-1586440800-1586444400@rileybrockington.ca
SUMMARY:Virtual Town Hall
DESCRIPTION:Join the virtual town hall on COVID-19 in Ottawa\nOttawa – The City of Ottawa is holding a virtual town hall on COVID-19 in Ottawa on Thursday\, April 9 at 2 pm. \nAll residents are invited to join us for an update on urgent community issues and answers to your questions about the COVID-19 pandemic. To maintain physical distancing and reduce the spread of the virus\, this meeting will take place online. \nHow to join in: \n\nWatch live starting at 2 pm on the City of Ottawa Youtube channel\, on RogersTV Cable 22 or on the RogersTV website\nCall in to 613-233-1979 (passcode 6010568#) during the discussion with your questions for the panel\n\n\nMayor Jim Watson will moderate a discussion with our panel\, including: \n\nKeith Egli\, Chair\, Ottawa Board of Health\nSteve Kanellakos\, City Manager\nDr. Vera Etches\, Medical Officer of Health\nAnthony Di Monte\, General Manager\, Emergency and Protective Services\nPeter Sloly\, Chief\, Ottawa Police Service\n\nFor up-to-date information on the COVID-19 pandemic in Ottawa\, visit ottawa.ca/covid19 or call 3-1-1 (TTY: 613-580-9656). You can also connect with us through Facebook\, Twitter and Instagram. \n\n\n\n\nJoignez-vous à l’assemblée virtuelle sur la COVID-19 à Ottawa\n  \nOttawa – La Ville d’Ottawa tiendra une assemblée virtuelle sur la COVID-19 à Ottawa le jeudi 9 avril\, à 14 h. \nTous les résidents sont invités à se joindre à nous pour une mise à jour portant sur des enjeux communautaires urgents et les réponses à vos questions au sujet de la pandémie de COVID-19. Afin de maintenir une distance physique et de réduire les risques de propagation du virus\, cette assemblée se tiendra en ligne. \nComment joindre l’assemblée : \n\nSuivez-la en direct à 14 h sur la chaîne YouTube de la Ville d’Ottawa\, sur le câble 23 de RogersTV ou sur le site Web de RogersTV.\nAppelez au 613-233-1979 (mot de passe 6010568#) pendant la discussion avec vos questions pour le panel.\n\nLe maire Jim Watson animera une discussion avec notre panel composé de : \n\nKeith Egli\, président du Conseil de santé d’Ottawa;\nSteve Kanellakos\, directeur municipal;\nDre Vera Etches\, médecin chef en santé publique;\nAnthony Di Monte\, directeur général des Services de protection et d’urgence;\nPeter Sloly\, chef du Service de police d’Ottawa.\n\n  \nPour obtenir des renseignements à jour sur la pandémie de COVID-19 à Ottawa\, visitez le site ottawa.ca/covid19 ou appelez au 3-1-1 (ATS : 613-580-9656). Vous pouvez également nous suivre sur Facebook\, Twitter et Instagram. \n 
URL:https://rileybrockington.ca/event/virtual-town-hall/
CATEGORIES:General
END:VEVENT
END:VCALENDAR