BEGIN:VCALENDAR
VERSION:2.0
PRODID:-//Riley Brockington, City Councillor (River Ward) - ECPv6.8.3//NONSGML v1.0//EN
CALSCALE:GREGORIAN
METHOD:PUBLISH
X-WR-CALNAME:Riley Brockington, City Councillor (River Ward)
X-ORIGINAL-URL:https://rileybrockington.ca
X-WR-CALDESC:Events for Riley Brockington, City Councillor (River Ward)
REFRESH-INTERVAL;VALUE=DURATION:PT1H
X-Robots-Tag:noindex
X-PUBLISHED-TTL:PT1H
BEGIN:VTIMEZONE
TZID:America/New_York
BEGIN:DAYLIGHT
TZOFFSETFROM:-0500
TZOFFSETTO:-0400
TZNAME:EDT
DTSTART:20200308T070000
END:DAYLIGHT
BEGIN:STANDARD
TZOFFSETFROM:-0400
TZOFFSETTO:-0500
TZNAME:EST
DTSTART:20201101T060000
END:STANDARD
END:VTIMEZONE
BEGIN:VEVENT
DTSTART;VALUE=DATE:20200418
DTEND;VALUE=DATE:20200419
DTSTAMP:20260423T123504
CREATED:20200207T170258Z
LAST-MODIFIED:20200403T180153Z
UID:15390-1587168000-1587254399@rileybrockington.ca
SUMMARY:River Ward Earth Day Celebration 2020 - Tentative Date
DESCRIPTION:This date is tentative\, pending the removal of physical distancing restrictions during the COVID-19 emergency.  The event will be held sometime in 2020\, once the all clear is received.
URL:https://rileybrockington.ca/event/river-ward-earth-day-celebration-2020/
CATEGORIES:General
END:VEVENT
END:VCALENDAR