BEGIN:VCALENDAR
VERSION:2.0
PRODID:-//Riley Brockington, City Councillor (River Ward) - ECPv6.8.3//NONSGML v1.0//EN
CALSCALE:GREGORIAN
METHOD:PUBLISH
X-WR-CALNAME:Riley Brockington, City Councillor (River Ward)
X-ORIGINAL-URL:https://rileybrockington.ca
X-WR-CALDESC:Events for Riley Brockington, City Councillor (River Ward)
REFRESH-INTERVAL;VALUE=DURATION:PT1H
X-Robots-Tag:noindex
X-PUBLISHED-TTL:PT1H
BEGIN:VTIMEZONE
TZID:America/New_York
BEGIN:DAYLIGHT
TZOFFSETFROM:-0500
TZOFFSETTO:-0400
TZNAME:EDT
DTSTART:20200308T070000
END:DAYLIGHT
BEGIN:STANDARD
TZOFFSETFROM:-0400
TZOFFSETTO:-0500
TZNAME:EST
DTSTART:20201101T060000
END:STANDARD
END:VTIMEZONE
BEGIN:VEVENT
DTSTART;TZID=America/New_York:20201019T183000
DTEND;TZID=America/New_York:20201019T200000
DTSTAMP:20260423T010629
CREATED:20201008T193518Z
LAST-MODIFIED:20201008T193518Z
UID:16790-1603132200-1603137600@rileybrockington.ca
SUMMARY:2021 Budget Consultation - Ottawa West
DESCRIPTION:  \nTo register for this online meeting\, please send an email to Andrea.Ward@Ottawa.ca.
URL:https://rileybrockington.ca/event/2021-budget-consultation-ottawa-west/
CATEGORIES:General
END:VEVENT
END:VCALENDAR