BEGIN:VCALENDAR
VERSION:2.0
PRODID:-//Riley Brockington, City Councillor (River Ward) - ECPv6.8.3//NONSGML v1.0//EN
CALSCALE:GREGORIAN
METHOD:PUBLISH
X-WR-CALNAME:Riley Brockington, City Councillor (River Ward)
X-ORIGINAL-URL:https://rileybrockington.ca
X-WR-CALDESC:Events for Riley Brockington, City Councillor (River Ward)
REFRESH-INTERVAL;VALUE=DURATION:PT1H
X-Robots-Tag:noindex
X-PUBLISHED-TTL:PT1H
BEGIN:VTIMEZONE
TZID:America/New_York
BEGIN:DAYLIGHT
TZOFFSETFROM:-0500
TZOFFSETTO:-0400
TZNAME:EDT
DTSTART:20200308T070000
END:DAYLIGHT
BEGIN:STANDARD
TZOFFSETFROM:-0400
TZOFFSETTO:-0500
TZNAME:EST
DTSTART:20201101T060000
END:STANDARD
END:VTIMEZONE
BEGIN:VEVENT
DTSTART;TZID=America/New_York:20201021T080000
DTEND;TZID=America/New_York:20201025T160000
DTSTAMP:20260423T023731
CREATED:20201020T132535Z
LAST-MODIFIED:20201020T132535Z
UID:16828-1603267200-1603641600@rileybrockington.ca
SUMMARY:Household Hazardous Waste Depot - Oct 21 - 25
DESCRIPTION:Public Works and Environmental Services is pleased to announce that the third and final extended Household Hazardous Waste Depot for 2020 will be held at the Barrhaven Snow Disposal Facility (Strandherd Drive and Dealership Drive). The Depot will be open from Wednesday\, October 21 to Sunday\, October 25 between the hours of 8:00 am to 4:00 pm. \nThe same procedures that were in place for the two previous extended events will be in effect for the third event. For your awareness and as a reminder: \n\nUpon arrival\, residents will be directed into a queue where they will wait their turn to park in a designated area. All vehicles will be spaced accordingly\, and residents must remain in their vehicle at all times;\nResidents arriving on bicycles are permitted to drop-off materials\, and they must follow the instructions provided by staff on site;\nThe depot will accept household hazardous waste only. No electronic waste will be accepted;\n\n Residents can bring electronic waste to the Trail Road Landfill facility at no cost\, or can contact a participating Take it Back member to arrange for proper disposal;\n\n\nDue to operating restrictions\, bins\, totes\, gas cans\, etc. will not be returned to the resident;\nThe last vehicle will be emptied at 4:00 p.m.\n\nPreparing for Next Year’s Depot Events\nWith significant uncertainty around the future of the ongoing pandemic\, and based on the success of the Extended Household Hazardous Waste Depot events to-date\, city staff will be considering the possibility of hosting similar extended events in 2021 as a contingency measure should normal depot events prove to not be viable.
URL:https://rileybrockington.ca/event/household-hazardous-waste-depot-oct-21-25/
CATEGORIES:General
END:VEVENT
END:VCALENDAR