BEGIN:VCALENDAR
VERSION:2.0
PRODID:-//Riley Brockington, City Councillor (River Ward) - ECPv6.8.3//NONSGML v1.0//EN
CALSCALE:GREGORIAN
METHOD:PUBLISH
X-WR-CALNAME:Riley Brockington, City Councillor (River Ward)
X-ORIGINAL-URL:https://rileybrockington.ca
X-WR-CALDESC:Events for Riley Brockington, City Councillor (River Ward)
REFRESH-INTERVAL;VALUE=DURATION:PT1H
X-Robots-Tag:noindex
X-PUBLISHED-TTL:PT1H
BEGIN:VTIMEZONE
TZID:America/New_York
BEGIN:DAYLIGHT
TZOFFSETFROM:-0500
TZOFFSETTO:-0400
TZNAME:EDT
DTSTART:20200308T070000
END:DAYLIGHT
BEGIN:STANDARD
TZOFFSETFROM:-0400
TZOFFSETTO:-0500
TZNAME:EST
DTSTART:20201101T060000
END:STANDARD
END:VTIMEZONE
BEGIN:VEVENT
DTSTART;TZID=America/New_York:20201213T130000
DTEND;TZID=America/New_York:20201213T160000
DTSTAMP:20260423T010630
CREATED:20201208T174434Z
LAST-MODIFIED:20201208T174434Z
UID:17058-1607864400-1607875200@rileybrockington.ca
SUMMARY:Holiday Haircut event in Caldwell
DESCRIPTION:Free haircuts available at the Carlington Recreation Centre on Sunday\, December 13. \nBy appointment only: call Jenny at 613-722-4000 ext 299 or Turtle at 613-875-2994. \nLimited space available so RSVP today.
URL:https://rileybrockington.ca/event/holiday-haircut-event-in-caldwell/
CATEGORIES:General
END:VEVENT
END:VCALENDAR