BEGIN:VCALENDAR
VERSION:2.0
PRODID:-//Riley Brockington, City Councillor (River Ward) - ECPv6.8.3//NONSGML v1.0//EN
CALSCALE:GREGORIAN
METHOD:PUBLISH
X-WR-CALNAME:Riley Brockington, City Councillor (River Ward)
X-ORIGINAL-URL:https://rileybrockington.ca
X-WR-CALDESC:Events for Riley Brockington, City Councillor (River Ward)
REFRESH-INTERVAL;VALUE=DURATION:PT1H
X-Robots-Tag:noindex
X-PUBLISHED-TTL:PT1H
BEGIN:VTIMEZONE
TZID:America/New_York
BEGIN:DAYLIGHT
TZOFFSETFROM:-0500
TZOFFSETTO:-0400
TZNAME:EDT
DTSTART:20200308T070000
END:DAYLIGHT
BEGIN:STANDARD
TZOFFSETFROM:-0400
TZOFFSETTO:-0500
TZNAME:EST
DTSTART:20201101T060000
END:STANDARD
END:VTIMEZONE
BEGIN:VEVENT
DTSTART;TZID=America/New_York:20201216T190000
DTEND;TZID=America/New_York:20201216T210000
DTSTAMP:20260423T010630
CREATED:20201209T211212Z
LAST-MODIFIED:20201209T211300Z
UID:17062-1608145200-1608152400@rileybrockington.ca
SUMMARY:Ottawa's Central Park Safety Discussion Meeting
DESCRIPTION:Wednesday\, December 16\, 2020\, 7pm on Zoom \nJoin your City Councillor Riley Brockington\,\nthe Ottawa Central Park Community Association\, and representatives from Ottawa Bylaw Services and Ottawa Police Services\,\nto talk about issues of concern in the Central Park Community.\nSome topics to be covered include:\nCrime Concerns – Suspicious Vehicles and Activity in Parks – Protecting your home and property\nPet Safety – Property Standards – Being Neighbourly\nJoin us online to discuss topics of importance to the Central Park Community \nLINK: Central Park Safety Discussion
URL:https://rileybrockington.ca/event/ottawas-central-park-safety-discussion-meeting/
CATEGORIES:General
END:VEVENT
END:VCALENDAR