BEGIN:VCALENDAR
VERSION:2.0
PRODID:-//Riley Brockington, City Councillor (River Ward) - ECPv6.8.3//NONSGML v1.0//EN
CALSCALE:GREGORIAN
METHOD:PUBLISH
X-ORIGINAL-URL:https://rileybrockington.ca
X-WR-CALDESC:Events for Riley Brockington, City Councillor (River Ward)
REFRESH-INTERVAL;VALUE=DURATION:PT1H
X-Robots-Tag:noindex
X-PUBLISHED-TTL:PT1H
BEGIN:VTIMEZONE
TZID:America/New_York
BEGIN:DAYLIGHT
TZOFFSETFROM:-0500
TZOFFSETTO:-0400
TZNAME:EDT
DTSTART:20210314T070000
END:DAYLIGHT
BEGIN:STANDARD
TZOFFSETFROM:-0400
TZOFFSETTO:-0500
TZNAME:EST
DTSTART:20211107T060000
END:STANDARD
END:VTIMEZONE
BEGIN:VEVENT
DTSTART;TZID=America/New_York:20210130T163000
DTEND;TZID=America/New_York:20210130T180000
DTSTAMP:20260422T204833
CREATED:20210129T155557Z
LAST-MODIFIED:20210129T155557Z
UID:17131-1612024200-1612029600@rileybrockington.ca
SUMMARY:Covid and Seniors - a Social Isolation Panel with Ottawa's Senior Ethno-Cultural Coalition
DESCRIPTION:The World Multicultural Festival is inviting you to a scheduled Zoom meeting. \nTopic: Covid & Seniors’ social isolation panel with Ottawa’s Senior Ethno-Cultural coalition.\nTime: Jan 30\, 2021 04:30 PM Eastern Time (US and Canada) \nJoin Zoom Meeting\nhttps://us02web.zoom.us/j/83999751622?pwd=bE5iVU1qaVRCYnZaK2ZkRDJBNjB3dz09 \nMeeting ID: 839 9975 1622\nPasscode: 382773\nOne tap mobile\n+14086380968\,\,83999751622# US (San Jose)\n+16468769923\,\,83999751622# US (New York) \nDial by your location\n+1 408 638 0968 US (San Jose)\n+1 646 876 9923 US (New York)\n+1 669 900 6833 US (San Jose)\n+1 253 215 8782 US (Tacoma)\n+1 301 715 8592 US (Washington D.C)\n+1 312 626 6799 US (Chicago)\n+1 346 248 7799 US (Houston)
URL:https://rileybrockington.ca/event/covid-and-seniors-a-social-isolation-panel-with-ottawas-senior-ethno-cultural-coalition/
CATEGORIES:General
END:VEVENT
END:VCALENDAR