BEGIN:VCALENDAR
VERSION:2.0
PRODID:-//Riley Brockington, City Councillor (River Ward) - ECPv6.8.3//NONSGML v1.0//EN
CALSCALE:GREGORIAN
METHOD:PUBLISH
X-WR-CALNAME:Riley Brockington, City Councillor (River Ward)
X-ORIGINAL-URL:https://rileybrockington.ca
X-WR-CALDESC:Events for Riley Brockington, City Councillor (River Ward)
REFRESH-INTERVAL;VALUE=DURATION:PT1H
X-Robots-Tag:noindex
X-PUBLISHED-TTL:PT1H
BEGIN:VTIMEZONE
TZID:America/New_York
BEGIN:DAYLIGHT
TZOFFSETFROM:-0500
TZOFFSETTO:-0400
TZNAME:EDT
DTSTART:20210314T070000
END:DAYLIGHT
BEGIN:STANDARD
TZOFFSETFROM:-0400
TZOFFSETTO:-0500
TZNAME:EST
DTSTART:20211107T060000
END:STANDARD
END:VTIMEZONE
BEGIN:VEVENT
DTSTART;TZID=America/New_York:20210318T190000
DTEND;TZID=America/New_York:20210318T203000
DTSTAMP:20260422T174631
CREATED:20210302T150825Z
LAST-MODIFIED:20210302T150825Z
UID:17202-1616094000-1616099400@rileybrockington.ca
SUMMARY:Ridgemont Community Town Hall Meeting
DESCRIPTION:Residents in the Ridgemont Community are invited to a Virtual Town Hall meeting on March 18\, 2021 at 7pm on ZOOM. \nJoin me for an update on local infrastructure\, development\, and LRT projects in our community. \nRSVP today at www.tinyurl.com/RidgemontOpenHouse \n 
URL:https://rileybrockington.ca/event/ridgemont-community-town-hall-meeting/
CATEGORIES:General
END:VEVENT
END:VCALENDAR