BEGIN:VCALENDAR
VERSION:2.0
PRODID:-//Riley Brockington, City Councillor (River Ward) - ECPv6.8.3//NONSGML v1.0//EN
CALSCALE:GREGORIAN
METHOD:PUBLISH
X-ORIGINAL-URL:https://rileybrockington.ca
X-WR-CALDESC:Events for Riley Brockington, City Councillor (River Ward)
REFRESH-INTERVAL;VALUE=DURATION:PT1H
X-Robots-Tag:noindex
X-PUBLISHED-TTL:PT1H
BEGIN:VTIMEZONE
TZID:America/New_York
BEGIN:DAYLIGHT
TZOFFSETFROM:-0500
TZOFFSETTO:-0400
TZNAME:EDT
DTSTART:20220313T070000
END:DAYLIGHT
BEGIN:STANDARD
TZOFFSETFROM:-0400
TZOFFSETTO:-0500
TZNAME:EST
DTSTART:20221106T060000
END:STANDARD
END:VTIMEZONE
BEGIN:VEVENT
DTSTART;TZID=America/New_York:20220318T180000
DTEND;TZID=America/New_York:20220318T200000
DTSTAMP:20260419T204912
CREATED:20210301T033049Z
LAST-MODIFIED:20220301T201644Z
UID:17450-1647626400-1647633600@rileybrockington.ca
SUMMARY:River Ward Trivia Night
DESCRIPTION:River Ward Trivia Night \nRegistration via the links below:\n6pm Youth Session – https://tinyurl.com/TN-Youth\n7pm Adults Session – https://tinyurl.com/TN-Adults22
URL:https://rileybrockington.ca/event/riverwardtrivia2022/
LOCATION:Online Via Zoom
CATEGORIES:General
END:VEVENT
END:VCALENDAR