BEGIN:VCALENDAR
VERSION:2.0
PRODID:-//Riley Brockington, City Councillor (River Ward) - ECPv6.8.3//NONSGML v1.0//EN
CALSCALE:GREGORIAN
METHOD:PUBLISH
X-WR-CALNAME:Riley Brockington, City Councillor (River Ward)
X-ORIGINAL-URL:https://rileybrockington.ca
X-WR-CALDESC:Events for Riley Brockington, City Councillor (River Ward)
REFRESH-INTERVAL;VALUE=DURATION:PT1H
X-Robots-Tag:noindex
X-PUBLISHED-TTL:PT1H
BEGIN:VTIMEZONE
TZID:America/Toronto
BEGIN:DAYLIGHT
TZOFFSETFROM:-0500
TZOFFSETTO:-0400
TZNAME:EDT
DTSTART:20150308T070000
END:DAYLIGHT
BEGIN:STANDARD
TZOFFSETFROM:-0400
TZOFFSETTO:-0500
TZNAME:EST
DTSTART:20151101T060000
END:STANDARD
BEGIN:DAYLIGHT
TZOFFSETFROM:-0500
TZOFFSETTO:-0400
TZNAME:EDT
DTSTART:20160313T070000
END:DAYLIGHT
BEGIN:STANDARD
TZOFFSETFROM:-0400
TZOFFSETTO:-0500
TZNAME:EST
DTSTART:20161106T060000
END:STANDARD
END:VTIMEZONE
BEGIN:VEVENT
DTSTART;TZID=America/Toronto:20160215T110000
DTEND;TZID=America/Toronto:20160215T140000
DTSTAMP:20260419T121422
CREATED:20160209T162517Z
LAST-MODIFIED:20160209T172600Z
UID:11406-1455534000-1455544800@rileybrockington.ca
SUMMARY:Mayor Watson's Family Day Skating Party
DESCRIPTION:Mayor Watson to host Family Day Skating Party on Sens Rink of Dreams\nOttawa – Mayor Jim Watson invites everyone to attend the Family Day Skating Party on the Sens Rink of Dreams at City Hall on Monday\, February 15 (Family Day) from 11 a.m. to 2 p.m. \nThe party will feature many of your favourite local mascots\, free family activities\, as well as light snacks and refreshments. \nMake your way inside City Hall to the Council Chambers (Andrew Haydon Hall) for a musical performance by the cast of Freezing. The 15-minute performance will take place every hour between 10 a.m. and 4 p.m.\, and will feature Hanna\, Krisco\, Rubble and Hans performing Let it Snow\, Sisters and Cold Hands Warm Hearts. \nYou also won’t want to miss: \n\nThinkfirst\, Ottawa Chapter\, providing assistance with helmet fitting\nWallacks craft table\nOttawa 2017 exhibit\nRingette Canada shootout\nMuseum of Science and Technology’s Technosnow exhibit\n\nParking at City Hall is only $2 for the day on weekends and holidays. Or\, take the OLG Sno-bus to City Hall between 10 a.m. and 3 p.m. on the last day of Winterlude. \nThe Sens Rink of Dreams features LED lighting\, a heated change hut\, picnic tables and benches. It operates annually from November to March from 8 a.m. to 11 p.m.\, seven days a week. While at City Hall\, you can also visit the Barbara Ann Scott exhibit\, the Ottawa Sports Hall of Fame and the Karsh-Masson Gallery. \n 
URL:https://rileybrockington.ca/event/mayor-watsons-family-day-skating-party/
LOCATION:city hall
CATEGORIES:General
END:VEVENT
BEGIN:VEVENT
DTSTART;TZID=America/Toronto:20160215T110000
DTEND;TZID=America/Toronto:20160215T140000
DTSTAMP:20260419T121422
CREATED:20160209T162517Z
LAST-MODIFIED:20160209T162517Z
UID:15221-1455534000-1455544800@rileybrockington.ca
SUMMARY:Mayor Watson's Family Day Skating Party
DESCRIPTION:Mayor Watson to host Family Day Skating Party on Sens Rink of Dreams\nOttawa – Mayor Jim Watson invites everyone to attend the Family Day Skating Party on the Sens Rink of Dreams at City Hall on Monday\, February 15 (Family Day) from 11 a.m. to 2 p.m. \nThe party will feature many of your favourite local mascots\, free family activities\, as well as light snacks and refreshments. \nMake your way inside City Hall to the Council Chambers (Andrew Haydon Hall) for a musical performance by the cast of Freezing. The 15-minute performance will take place every hour between 10 a.m. and 4 p.m.\, and will feature Hanna\, Krisco\, Rubble and Hans performing Let it Snow\, Sisters and Cold Hands Warm Hearts. \nYou also won’t want to miss: \n\nThinkfirst\, Ottawa Chapter\, providing assistance with helmet fitting\nWallacks craft table\nOttawa 2017 exhibit\nRingette Canada shootout\nMuseum of Science and Technology’s Technosnow exhibit\n\nParking at City Hall is only $2 for the day on weekends and holidays. Or\, take the OLG Sno-bus to City Hall between 10 a.m. and 3 p.m. on the last day of Winterlude. \nThe Sens Rink of Dreams features LED lighting\, a heated change hut\, picnic tables and benches. It operates annually from November to March from 8 a.m. to 11 p.m.\, seven days a week. While at City Hall\, you can also visit the Barbara Ann Scott exhibit\, the Ottawa Sports Hall of Fame and the Karsh-Masson Gallery. \n 
URL:https://rileybrockington.ca/event/mayor-watsons-family-day-skating-party-2/
LOCATION:city hall
CATEGORIES:General
END:VEVENT
BEGIN:VEVENT
DTSTART;TZID=America/Toronto:20160214T130000
DTEND;TZID=America/Toronto:20160214T150000
DTSTAMP:20260419T121422
CREATED:20160208T192711Z
LAST-MODIFIED:20160208T192711Z
UID:11397-1455454800-1455462000@rileybrockington.ca
SUMMARY:Central Park Mini Winterlude
DESCRIPTION:1-3pm at Celebration Park\, in the heart of the Central Park Community.
URL:https://rileybrockington.ca/event/central-park-mini-winterlude/
LOCATION:Celebration Park\, 200 Central Park Drive\, Ottawa
CATEGORIES:General
END:VEVENT
BEGIN:VEVENT
DTSTART;TZID=America/Toronto:20160214T130000
DTEND;TZID=America/Toronto:20160214T150000
DTSTAMP:20260419T121422
CREATED:20160208T192711Z
LAST-MODIFIED:20160208T192711Z
UID:15218-1455454800-1455462000@rileybrockington.ca
SUMMARY:Central Park Mini Winterlude
DESCRIPTION:1-3pm at Celebration Park\, in the heart of the Central Park Community.
URL:https://rileybrockington.ca/event/central-park-mini-winterlude-2/
LOCATION:Celebration Park\, 200 Central Park Drive\, Ottawa
CATEGORIES:General
END:VEVENT
BEGIN:VEVENT
DTSTART;TZID=America/Toronto:20160213T131500
DTEND;TZID=America/Toronto:20160213T144500
DTSTAMP:20260419T121422
CREATED:20160208T185954Z
LAST-MODIFIED:20160208T185954Z
UID:11383-1455369300-1455374700@rileybrockington.ca
SUMMARY:Market Mobile - Fresh\, Affordable Food
DESCRIPTION:
URL:https://rileybrockington.ca/event/market-mobile-fresh-affordable-food/
LOCATION:Caldwell Gym\, 1520 Caldwell Ave\, Ottawa
CATEGORIES:General
END:VEVENT
BEGIN:VEVENT
DTSTART;TZID=America/Toronto:20160213T131500
DTEND;TZID=America/Toronto:20160213T144500
DTSTAMP:20260419T121422
CREATED:20160208T185954Z
LAST-MODIFIED:20160208T185954Z
UID:15210-1455369300-1455374700@rileybrockington.ca
SUMMARY:Market Mobile - Fresh\, Affordable Food
DESCRIPTION:
URL:https://rileybrockington.ca/event/market-mobile-fresh-affordable-food-5/
LOCATION:Caldwell Gym\, 1520 Caldwell Ave\, Ottawa
CATEGORIES:General
END:VEVENT
BEGIN:VEVENT
DTSTART;TZID=America/Toronto:20160210T130000
DTEND;TZID=America/Toronto:20160210T150000
DTSTAMP:20260419T121422
CREATED:20160208T195345Z
LAST-MODIFIED:20160208T195345Z
UID:11403-1455109200-1455116400@rileybrockington.ca
SUMMARY:Carlington Community Health Centre - Wednesday Women Series
DESCRIPTION:
URL:https://rileybrockington.ca/event/carlington-community-health-centre-wednesday-women-series/
LOCATION:Carlington Community Health Centre\, 900 Merivale Rd\, Ottawa\, ON\, K1Z 5Z8\, Canada
CATEGORIES:General
END:VEVENT
BEGIN:VEVENT
DTSTART;TZID=America/Toronto:20160210T130000
DTEND;TZID=America/Toronto:20160210T150000
DTSTAMP:20260419T121422
CREATED:20160208T195345Z
LAST-MODIFIED:20160208T195345Z
UID:15219-1455109200-1455116400@rileybrockington.ca
SUMMARY:Carlington Community Health Centre - Wednesday Women Series
DESCRIPTION:
URL:https://rileybrockington.ca/event/carlington-community-health-centre-wednesday-women-series-2/
LOCATION:Carlington Community Health Centre\, 900 Merivale Rd\, Ottawa\, ON\, K1Z 5Z8\, Canada
CATEGORIES:General
END:VEVENT
BEGIN:VEVENT
DTSTART;TZID=America/Toronto:20160123T180000
DTEND;TZID=America/Toronto:20160123T210000
DTSTAMP:20260419T121422
CREATED:20160111T190023Z
LAST-MODIFIED:20160111T191932Z
UID:11261-1453572000-1453582800@rileybrockington.ca
SUMMARY:Free Movie Night at Alexander Community Centre
DESCRIPTION:  \nPlease note\, children are to be accompanied by parents.
URL:https://rileybrockington.ca/event/free-movie-night-at-alexander-community-centre/
LOCATION:Alexander Community Centre\, 960 Silver Street\, Ottawa\, ON\, Canada
CATEGORIES:General
END:VEVENT
BEGIN:VEVENT
DTSTART;TZID=America/Toronto:20160123T180000
DTEND;TZID=America/Toronto:20160123T210000
DTSTAMP:20260419T121422
CREATED:20160111T190023Z
LAST-MODIFIED:20160111T190023Z
UID:15206-1453572000-1453582800@rileybrockington.ca
SUMMARY:Free Movie Night at Alexander Community Centre
DESCRIPTION:  \nPlease note\, children are to be accompanied by parents.
URL:https://rileybrockington.ca/event/free-movie-night-at-alexander-community-centre-2/
LOCATION:Alexander Community Centre\, 960 Silver Street\, Ottawa\, ON\, Canada
CATEGORIES:General
END:VEVENT
BEGIN:VEVENT
DTSTART;TZID=America/Toronto:20151228T100000
DTEND;TZID=America/Toronto:20151228T130000
DTSTAMP:20260419T121422
CREATED:20151223T150117Z
LAST-MODIFIED:20151223T150117Z
UID:11232-1451296800-1451307600@rileybrockington.ca
SUMMARY:Free Car Seat Inspection Clinic
DESCRIPTION:
URL:https://rileybrockington.ca/event/free-car-seat-inspection-clinic/
LOCATION:South Keys Walmart\, 2210 Bank Street\, Ottawa\, Canada
CATEGORIES:General
END:VEVENT
BEGIN:VEVENT
DTSTART;TZID=America/Toronto:20151228T100000
DTEND;TZID=America/Toronto:20151228T130000
DTSTAMP:20260419T121422
CREATED:20151223T150117Z
LAST-MODIFIED:20151223T150117Z
UID:15205-1451296800-1451307600@rileybrockington.ca
SUMMARY:Free Car Seat Inspection Clinic
DESCRIPTION:
URL:https://rileybrockington.ca/event/free-car-seat-inspection-clinic-2/
LOCATION:South Keys Walmart\, 2210 Bank Street\, Ottawa\, Canada
CATEGORIES:General
END:VEVENT
BEGIN:VEVENT
DTSTART;TZID=America/Toronto:20151219T190000
DTEND;TZID=America/Toronto:20151219T210000
DTSTAMP:20260419T121422
CREATED:20151211T155020Z
LAST-MODIFIED:20151211T155331Z
UID:11188-1450551600-1450558800@rileybrockington.ca
SUMMARY:The Nativity - A Family Christmas Tradition
DESCRIPTION:Free performances of the Nativity by the Church of Jesus of Latter Day Saints on Prince of Wales Drive on December 18th and 19th. 7pm English performance\, 7:45pm French performance.
URL:https://rileybrockington.ca/event/the-nativity-a-family-christmas-tradition/
LOCATION:Church of Jesus Christ of Latter-day Saints\, 1017 Prince of Wales Drive\, Ottawa\, ON\, Canada
CATEGORIES:General
END:VEVENT
BEGIN:VEVENT
DTSTART;TZID=America/Toronto:20151219T190000
DTEND;TZID=America/Toronto:20151219T210000
DTSTAMP:20260419T121422
CREATED:20151211T155020Z
LAST-MODIFIED:20151211T155020Z
UID:15204-1450551600-1450558800@rileybrockington.ca
SUMMARY:The Nativity - A Family Christmas Tradition
DESCRIPTION:Free performances of the Nativity by the Church of Jesus of Latter Day Saints on Prince of Wales Drive on December 18th and 19th. 7pm English performance\, 7:45pm French performance.
URL:https://rileybrockington.ca/event/the-nativity-a-family-christmas-tradition-2/
LOCATION:Church of Jesus Christ of Latter-day Saints\, 1017 Prince of Wales Drive\, Ottawa\, ON\, Canada
CATEGORIES:General
END:VEVENT
BEGIN:VEVENT
DTSTART;TZID=America/Toronto:20151219T123000
DTEND;TZID=America/Toronto:20151219T140000
DTSTAMP:20260419T121422
CREATED:20150925T184926Z
LAST-MODIFIED:20150925T184926Z
UID:10947-1450528200-1450533600@rileybrockington.ca
SUMMARY:Market Fresh - Fresh Food Truck
DESCRIPTION:
URL:https://rileybrockington.ca/event/market-fresh-fresh-food-truck-6/
LOCATION:Caldwell Gym\, 1520 Caldwell Ave\, Ottawa
CATEGORIES:General
END:VEVENT
BEGIN:VEVENT
DTSTART;TZID=America/Toronto:20151219T123000
DTEND;TZID=America/Toronto:20151219T140000
DTSTAMP:20260419T121422
CREATED:20150925T184926Z
LAST-MODIFIED:20150925T184926Z
UID:15171-1450528200-1450533600@rileybrockington.ca
SUMMARY:Market Fresh - Fresh Food Truck
DESCRIPTION:
URL:https://rileybrockington.ca/event/market-fresh-fresh-food-truck-6-2/
LOCATION:Caldwell Gym\, 1520 Caldwell Ave\, Ottawa
CATEGORIES:General
END:VEVENT
BEGIN:VEVENT
DTSTART;TZID=America/Toronto:20151218T190000
DTEND;TZID=America/Toronto:20151218T210000
DTSTAMP:20260419T121422
CREATED:20151211T152442Z
LAST-MODIFIED:20151211T152621Z
UID:11181-1450465200-1450472400@rileybrockington.ca
SUMMARY:The Nativity - A Christmas Family Tradition
DESCRIPTION:Free performances of the Nativity by the Church of Jesus of Latter Day Saints on Prince of Wales Drive on December 18th and 19th. 7pm English performance\, 7:45pm French performance.
URL:https://rileybrockington.ca/event/the-nativity-a-christmas-family-tradition/
LOCATION:Church of Jesus Christ of Latter-day Saints\, 1017 Prince of Wales Drive\, Ottawa\, ON\, Canada
CATEGORIES:General
END:VEVENT
BEGIN:VEVENT
DTSTART;TZID=America/Toronto:20151218T190000
DTEND;TZID=America/Toronto:20151218T210000
DTSTAMP:20260419T121422
CREATED:20151211T152442Z
LAST-MODIFIED:20151211T152442Z
UID:15201-1450465200-1450472400@rileybrockington.ca
SUMMARY:The Nativity - A Christmas Family Tradition
DESCRIPTION:Free performances of the Nativity by the Church of Jesus of Latter Day Saints on Prince of Wales Drive on December 18th and 19th. 7pm English performance\, 7:45pm French performance.
URL:https://rileybrockington.ca/event/the-nativity-a-christmas-family-tradition-2/
LOCATION:Church of Jesus Christ of Latter-day Saints\, 1017 Prince of Wales Drive\, Ottawa\, ON\, Canada
CATEGORIES:General
END:VEVENT
BEGIN:VEVENT
DTSTART;TZID=America/Toronto:20151214T180000
DTEND;TZID=America/Toronto:20151214T203000
DTSTAMP:20260419T121422
CREATED:20151211T154508Z
LAST-MODIFIED:20151211T154558Z
UID:11183-1450116000-1450125000@rileybrockington.ca
SUMMARY:Mooney's Bay Ski Centre Open House
DESCRIPTION:
URL:https://rileybrockington.ca/event/mooneys-bay-ski-centre-open-house/
LOCATION:Terry Fox Athletic Centre\, 2960 Riverside Drive\, Ottawa\, on\, Canada
CATEGORIES:General
END:VEVENT
BEGIN:VEVENT
DTSTART;TZID=America/Toronto:20151214T180000
DTEND;TZID=America/Toronto:20151214T203000
DTSTAMP:20260419T121422
CREATED:20151211T154508Z
LAST-MODIFIED:20151211T154508Z
UID:15202-1450116000-1450125000@rileybrockington.ca
SUMMARY:Mooney's Bay Ski Centre Open House
DESCRIPTION:
URL:https://rileybrockington.ca/event/mooneys-bay-ski-centre-open-house-2/
LOCATION:Terry Fox Athletic Centre\, 2960 Riverside Drive\, Ottawa\, on\, Canada
CATEGORIES:General
END:VEVENT
BEGIN:VEVENT
DTSTART;TZID=America/Toronto:20151212T100000
DTEND;TZID=America/Toronto:20151212T140000
DTSTAMP:20260419T121422
CREATED:20151211T154817Z
LAST-MODIFIED:20151211T154817Z
UID:11186-1449914400-1449928800@rileybrockington.ca
SUMMARY:Mooney's Bay Ski Centre Sale
DESCRIPTION:
URL:https://rileybrockington.ca/event/mooneys-bay-ski-centre-sale/
LOCATION:Terry Fox Athletic Centre\, 2960 Riverside Drive\, Ottawa\, on\, Canada
CATEGORIES:General
END:VEVENT
BEGIN:VEVENT
DTSTART;TZID=America/Toronto:20151212T100000
DTEND;TZID=America/Toronto:20151212T140000
DTSTAMP:20260419T121422
CREATED:20151211T154817Z
LAST-MODIFIED:20151211T154817Z
UID:15203-1449914400-1449928800@rileybrockington.ca
SUMMARY:Mooney's Bay Ski Centre Sale
DESCRIPTION:
URL:https://rileybrockington.ca/event/mooneys-bay-ski-centre-sale-2/
LOCATION:Terry Fox Athletic Centre\, 2960 Riverside Drive\, Ottawa\, on\, Canada
CATEGORIES:General
END:VEVENT
BEGIN:VEVENT
DTSTART;TZID=America/Toronto:20151205T140000
DTEND;TZID=America/Toronto:20151205T180000
DTSTAMP:20260419T121422
CREATED:20151123T204417Z
LAST-MODIFIED:20151123T204417Z
UID:11136-1449324000-1449338400@rileybrockington.ca
SUMMARY:Mayor's 15th Annual Christmas Celebration
DESCRIPTION:
URL:https://rileybrockington.ca/event/mayors-15th-annual-christmas-celebration/
LOCATION:city hall
CATEGORIES:General
END:VEVENT
BEGIN:VEVENT
DTSTART;TZID=America/Toronto:20151205T140000
DTEND;TZID=America/Toronto:20151205T180000
DTSTAMP:20260419T121422
CREATED:20151123T204417Z
LAST-MODIFIED:20151123T204417Z
UID:15197-1449324000-1449338400@rileybrockington.ca
SUMMARY:Mayor's 15th Annual Christmas Celebration
DESCRIPTION:
URL:https://rileybrockington.ca/event/mayors-15th-annual-christmas-celebration-2/
LOCATION:city hall
CATEGORIES:General
END:VEVENT
BEGIN:VEVENT
DTSTART;TZID=America/Toronto:20151205T123000
DTEND;TZID=America/Toronto:20151205T140000
DTSTAMP:20260419T121422
CREATED:20150925T184740Z
LAST-MODIFIED:20150925T184740Z
UID:10946-1449318600-1449324000@rileybrockington.ca
SUMMARY:Market Fresh - Fresh Food Truck
DESCRIPTION:
URL:https://rileybrockington.ca/event/market-fresh-fresh-food-truck-5/
LOCATION:Caldwell Gym\, 1520 Caldwell Ave\, Ottawa
CATEGORIES:General
END:VEVENT
BEGIN:VEVENT
DTSTART;TZID=America/Toronto:20151205T123000
DTEND;TZID=America/Toronto:20151205T140000
DTSTAMP:20260419T121422
CREATED:20150925T184740Z
LAST-MODIFIED:20150925T184740Z
UID:15170-1449318600-1449324000@rileybrockington.ca
SUMMARY:Market Fresh - Fresh Food Truck
DESCRIPTION:
URL:https://rileybrockington.ca/event/market-fresh-fresh-food-truck-5-2/
LOCATION:Caldwell Gym\, 1520 Caldwell Ave\, Ottawa
CATEGORIES:General
END:VEVENT
BEGIN:VEVENT
DTSTART;TZID=America/Toronto:20151205T100000
DTEND;TZID=America/Toronto:20151205T140000
DTSTAMP:20260419T121422
CREATED:20151202T150203Z
LAST-MODIFIED:20151202T150614Z
UID:11160-1449309600-1449324000@rileybrockington.ca
SUMMARY:St Elizabeth Church Bazaar
DESCRIPTION:The Ladies Auxiliary of St. Elizabeth Parish will be hosting a Christmas Bazaar this year. It will take place on Saturday\, December 5\, 2015 from 10:00 a.m. till 2:00 p.m. in the parish hall. The Ladies will be selling knitted and crocheted goods\, crafts\, white elephant tables\, baked goods\, Christmas cakes an much more.  \n Lunch served 11-2pm. Adults $5. Child $3. Free Admission.  \n1303 Leaside Ave\, Ottawa\n 
URL:https://rileybrockington.ca/event/st-elizabeth-church-bazaar/
LOCATION:St. Elizabeth Parish\, 1303 Leaside Ave\, Ottawa\, ON\, Canada
CATEGORIES:General
END:VEVENT
BEGIN:VEVENT
DTSTART;TZID=America/Toronto:20151205T100000
DTEND;TZID=America/Toronto:20151205T140000
DTSTAMP:20260419T121422
CREATED:20151202T150203Z
LAST-MODIFIED:20151202T150203Z
UID:15200-1449309600-1449324000@rileybrockington.ca
SUMMARY:St Elizabeth Church Bazaar
DESCRIPTION:The Ladies Auxiliary of St. Elizabeth Parish will be hosting a Christmas Bazaar this year. It will take place on Saturday\, December 5\, 2015 from 10:00 a.m. till 2:00 p.m. in the parish hall. The Ladies will be selling knitted and crocheted goods\, crafts\, white elephant tables\, baked goods\, Christmas cakes an much more.  \n Lunch served 11-2pm. Adults $5. Child $3. Free Admission.  \n1303 Leaside Ave\, Ottawa\n 
URL:https://rileybrockington.ca/event/st-elizabeth-church-bazaar-3/
LOCATION:St. Elizabeth Parish\, 1303 Leaside Ave\, Ottawa\, ON\, Canada
CATEGORIES:General
END:VEVENT
BEGIN:VEVENT
DTSTART;TZID=America/Toronto:20151205T090000
DTEND;TZID=America/Toronto:20151205T120000
DTSTAMP:20260419T121422
CREATED:20151202T145906Z
LAST-MODIFIED:20151202T145906Z
UID:11159-1449306000-1449316800@rileybrockington.ca
SUMMARY:Bayview Public School Holly Fair
DESCRIPTION:Bayview Public School \nAnnual Holly Fair \nSaturday\, December 5th \n9am until noon.  \n185 Owl Dr\, Ottawa\,\n\nSat. December 5th\, 9 a.m. – 12 p.m.\n  \nFor those new to the school\, the Holly Fair is a Winter Holiday themed carnival where students have the opportunity to share their school spirit with family and friends. Attendees can buy a Fair Passport that allows access to activity stations set up in several classrooms (cookie decorating\, bingo\, a craft\, fishpond\, and The Cake Walk)\, and they can buy game tickets for the awesome carnival games in the large gym. There’s a Café area where we serve hot and cold drinks\, along with donated snacks. Candy Lane hosts the Gift Basket Raffle\, the Teacher Jar Raffle\, and the Silent Auction. And finally the small gym is set up as our Holly Mall a ‘kids only’ shopping area where\, with only a few dollars they can buy a little something for the special people in their lives. The children really enjoy the Holly Fair and discuss it for weeks in advance at home and at school. Basically\, it’s a fun family event and a great way for your child to show off their school to the whole family! \n 
URL:https://rileybrockington.ca/event/bayview-public-school-holly-fair/
LOCATION:Bayview Public School\, 185 Owl Drive\, Ottawa\, ON\, Canada
CATEGORIES:General
END:VEVENT
BEGIN:VEVENT
DTSTART;TZID=America/Toronto:20151205T090000
DTEND;TZID=America/Toronto:20151205T120000
DTSTAMP:20260419T121422
CREATED:20151202T145906Z
LAST-MODIFIED:20151202T145906Z
UID:15199-1449306000-1449316800@rileybrockington.ca
SUMMARY:Bayview Public School Holly Fair
DESCRIPTION:Bayview Public School \nAnnual Holly Fair \nSaturday\, December 5th \n9am until noon.  \n185 Owl Dr\, Ottawa\,\n\nSat. December 5th\, 9 a.m. – 12 p.m.\n  \nFor those new to the school\, the Holly Fair is a Winter Holiday themed carnival where students have the opportunity to share their school spirit with family and friends. Attendees can buy a Fair Passport that allows access to activity stations set up in several classrooms (cookie decorating\, bingo\, a craft\, fishpond\, and The Cake Walk)\, and they can buy game tickets for the awesome carnival games in the large gym. There’s a Café area where we serve hot and cold drinks\, along with donated snacks. Candy Lane hosts the Gift Basket Raffle\, the Teacher Jar Raffle\, and the Silent Auction. And finally the small gym is set up as our Holly Mall a ‘kids only’ shopping area where\, with only a few dollars they can buy a little something for the special people in their lives. The children really enjoy the Holly Fair and discuss it for weeks in advance at home and at school. Basically\, it’s a fun family event and a great way for your child to show off their school to the whole family! \n 
URL:https://rileybrockington.ca/event/bayview-public-school-holly-fair-2/
LOCATION:Bayview Public School\, 185 Owl Drive\, Ottawa\, ON\, Canada
CATEGORIES:General
END:VEVENT
END:VCALENDAR