BEGIN:VCALENDAR
VERSION:2.0
PRODID:-//Riley Brockington, City Councillor (River Ward) - ECPv6.8.3//NONSGML v1.0//EN
CALSCALE:GREGORIAN
METHOD:PUBLISH
X-WR-CALNAME:Riley Brockington, City Councillor (River Ward)
X-ORIGINAL-URL:https://rileybrockington.ca
X-WR-CALDESC:Events for Riley Brockington, City Councillor (River Ward)
REFRESH-INTERVAL;VALUE=DURATION:PT1H
X-Robots-Tag:noindex
X-PUBLISHED-TTL:PT1H
BEGIN:VTIMEZONE
TZID:America/Toronto
BEGIN:DAYLIGHT
TZOFFSETFROM:-0500
TZOFFSETTO:-0400
TZNAME:EDT
DTSTART:20150308T070000
END:DAYLIGHT
BEGIN:STANDARD
TZOFFSETFROM:-0400
TZOFFSETTO:-0500
TZNAME:EST
DTSTART:20151101T060000
END:STANDARD
END:VTIMEZONE
BEGIN:VEVENT
DTSTART;TZID=America/Toronto:20150806T110000
DTEND;TZID=America/Toronto:20150806T160000
DTSTAMP:20260423T140820
CREATED:20150609T161143Z
LAST-MODIFIED:20150609T161143Z
UID:15139-1438858800-1438876800@rileybrockington.ca
SUMMARY:Special Events - Meadowvale Park Wading Pool!
DESCRIPTION:Join the City of Ottawa for summer fun at one of our 56 wading pools across the City. \nAll special events are held from 11 am to 4 pm\, featuring arts and crafts\, games\, prizes\, and lots of time to stay cool in the pool! \nOn Thursday\, August 6th\, the Special events will be held at Meadowvale Park! \nFor more  information on other dates and locations\, Click HERE.
URL:https://rileybrockington.ca/event/special-events-meadowvale-park-wading-pool-2/
LOCATION:Meadowvale Park\, 1205 Trenton Ave\, Ottawa\, ON\, Canada
CATEGORIES:General
END:VEVENT
BEGIN:VEVENT
DTSTART;TZID=America/Toronto:20150805T130000
DTEND;TZID=America/Toronto:20150805T150000
DTSTAMP:20260423T140820
CREATED:20150610T142747Z
LAST-MODIFIED:20150710T192356Z
UID:10653-1438779600-1438786800@rileybrockington.ca
SUMMARY:Wednesday Women support group at Carlington CHC
DESCRIPTION:
URL:https://rileybrockington.ca/event/wednesday-women-support-group-at-carlington-chc-4/
LOCATION:Carlington Community Health Centre\, 900 Merivale Rd\, Ottawa\, ON\, K1Z 5Z8\, Canada
CATEGORIES:General
END:VEVENT
BEGIN:VEVENT
DTSTART;TZID=America/Toronto:20150805T130000
DTEND;TZID=America/Toronto:20150805T150000
DTSTAMP:20260423T140820
CREATED:20150610T142747Z
LAST-MODIFIED:20150610T142747Z
UID:15146-1438779600-1438786800@rileybrockington.ca
SUMMARY:Wednesday Women support group at Carlington CHC
DESCRIPTION:
URL:https://rileybrockington.ca/event/wednesday-women-support-group-at-carlington-chc-4-2/
LOCATION:Carlington Community Health Centre\, 900 Merivale Rd\, Ottawa\, ON\, K1Z 5Z8\, Canada
CATEGORIES:General
END:VEVENT
BEGIN:VEVENT
DTSTART;TZID=America/Toronto:20150731T100000
DTEND;TZID=America/Toronto:20150731T160000
DTSTAMP:20260423T140820
CREATED:20150609T160548Z
LAST-MODIFIED:20150609T160548Z
UID:10637-1438336800-1438358400@rileybrockington.ca
SUMMARY:Special Events - Pauline Vanier Park Wading Pool!
DESCRIPTION:Join the City of Ottawa for summer fun at one of our 56 wading pools across the City. \nAll special events are held from 11 am to 4 pm\, featuring arts and crafts\, games\, prizes\, and lots of time to stay cool in the pool! \nOn Friday\, July 31st\, the Special events will be held at Pauline Vanier Park! \nFor more  information on other dates and locations\, Click HERE.\n \n 
URL:https://rileybrockington.ca/event/special-events-pauline-vanier-park-wading-pool/
LOCATION:on
CATEGORIES:General
END:VEVENT
BEGIN:VEVENT
DTSTART;TZID=America/Toronto:20150731T100000
DTEND;TZID=America/Toronto:20150731T160000
DTSTAMP:20260423T140820
CREATED:20150609T160548Z
LAST-MODIFIED:20150609T160548Z
UID:15138-1438336800-1438358400@rileybrockington.ca
SUMMARY:Special Events - Pauline Vanier Park Wading Pool!
DESCRIPTION:Join the City of Ottawa for summer fun at one of our 56 wading pools across the City. \nAll special events are held from 11 am to 4 pm\, featuring arts and crafts\, games\, prizes\, and lots of time to stay cool in the pool! \nOn Friday\, July 31st\, the Special events will be held at Pauline Vanier Park! \nFor more  information on other dates and locations\, Click HERE.\n \n 
URL:https://rileybrockington.ca/event/special-events-pauline-vanier-park-wading-pool-2/
LOCATION:on
CATEGORIES:General
END:VEVENT
BEGIN:VEVENT
DTSTART;TZID=America/Toronto:20150722T130000
DTEND;TZID=America/Toronto:20150722T150000
DTSTAMP:20260423T140820
CREATED:20150610T142425Z
LAST-MODIFIED:20150710T185615Z
UID:10650-1437570000-1437577200@rileybrockington.ca
SUMMARY:Wednesday Women support group at Carlington CHC
DESCRIPTION:
URL:https://rileybrockington.ca/event/wednesday-women-support-group-at-carlington-chc-3/
LOCATION:Carlington Community Health Centre\, 900 Merivale Rd\, Ottawa\, ON\, K1Z 5Z8\, Canada
CATEGORIES:General
END:VEVENT
BEGIN:VEVENT
DTSTART;TZID=America/Toronto:20150722T130000
DTEND;TZID=America/Toronto:20150722T150000
DTSTAMP:20260423T140820
CREATED:20150610T142425Z
LAST-MODIFIED:20150610T142425Z
UID:15145-1437570000-1437577200@rileybrockington.ca
SUMMARY:Wednesday Women support group at Carlington CHC
DESCRIPTION:
URL:https://rileybrockington.ca/event/wednesday-women-support-group-at-carlington-chc-3-2/
LOCATION:Carlington Community Health Centre\, 900 Merivale Rd\, Ottawa\, ON\, K1Z 5Z8\, Canada
CATEGORIES:General
END:VEVENT
BEGIN:VEVENT
DTSTART;TZID=America/Toronto:20150722T110000
DTEND;TZID=America/Toronto:20150722T160000
DTSTAMP:20260423T140820
CREATED:20150609T160240Z
LAST-MODIFIED:20150609T160402Z
UID:10636-1437562800-1437580800@rileybrockington.ca
SUMMARY:Special Events - Carleton Heights Wading Pool!
DESCRIPTION:Join the City of Ottawa for summer fun at one of our 56 wading pools across the City. \nAll special events are held from 11 am to 4 pm\, featuring arts and crafts\, games\, prizes\, and lots of time to stay cool in the pool! \nOn Wednesday\, July 22nd the Special Events will be held at Carleton Heights Park! \nFor more  information on other dates and locations\, Click HERE.\n \n 
URL:https://rileybrockington.ca/event/special-events-carleton-heights-wading-pool/
LOCATION:on
CATEGORIES:General
END:VEVENT
BEGIN:VEVENT
DTSTART;TZID=America/Toronto:20150722T110000
DTEND;TZID=America/Toronto:20150722T160000
DTSTAMP:20260423T140820
CREATED:20150609T160240Z
LAST-MODIFIED:20150609T160240Z
UID:15137-1437562800-1437580800@rileybrockington.ca
SUMMARY:Special Events - Carleton Heights Wading Pool!
DESCRIPTION:Join the City of Ottawa for summer fun at one of our 56 wading pools across the City. \nAll special events are held from 11 am to 4 pm\, featuring arts and crafts\, games\, prizes\, and lots of time to stay cool in the pool! \nOn Wednesday\, July 22nd the Special Events will be held at Carleton Heights Park! \nFor more  information on other dates and locations\, Click HERE.\n \n 
URL:https://rileybrockington.ca/event/special-events-carleton-heights-wading-pool-2/
LOCATION:on
CATEGORIES:General
END:VEVENT
BEGIN:VEVENT
DTSTART;TZID=America/Toronto:20150717T110000
DTEND;TZID=America/Toronto:20150717T160000
DTSTAMP:20260423T140820
CREATED:20150609T155622Z
LAST-MODIFIED:20150609T165605Z
UID:10635-1437130800-1437148800@rileybrockington.ca
SUMMARY:Special Events - Alexander Park Wading Pool!
DESCRIPTION:Join the City of Ottawa for summer fun at one of our 56 wading pools across the City. \nAll special events are held from 11 am to 4 pm\, featuring arts and crafts\, games\, prizes\, and lots of time to stay cool in the pool! \nOn Friday\, July 17th the Special events will be held at Alexander Park! \nFor more  information on other dates and locations\, Click HERE.\n \n 
URL:https://rileybrockington.ca/event/special-events-alexander-park-wading-pool/
LOCATION:on
END:VEVENT
BEGIN:VEVENT
DTSTART;TZID=America/Toronto:20150717T110000
DTEND;TZID=America/Toronto:20150717T160000
DTSTAMP:20260423T140820
CREATED:20150609T155622Z
LAST-MODIFIED:20150609T155622Z
UID:15136-1437130800-1437148800@rileybrockington.ca
SUMMARY:Special Events - Alexander Park Wading Pool!
DESCRIPTION:Join the City of Ottawa for summer fun at one of our 56 wading pools across the City. \nAll special events are held from 11 am to 4 pm\, featuring arts and crafts\, games\, prizes\, and lots of time to stay cool in the pool! \nOn Friday\, July 17th the Special events will be held at Alexander Park! \nFor more  information on other dates and locations\, Click HERE.\n \n 
URL:https://rileybrockington.ca/event/special-events-alexander-park-wading-pool-2/
LOCATION:on
END:VEVENT
BEGIN:VEVENT
DTSTART;TZID=America/Toronto:20150708T130000
DTEND;TZID=America/Toronto:20150708T150000
DTSTAMP:20260423T140820
CREATED:20150610T142121Z
LAST-MODIFIED:20150610T142121Z
UID:15144-1436360400-1436367600@rileybrockington.ca
SUMMARY:Wednesday Women support group at Carlington CHC
DESCRIPTION:
URL:https://rileybrockington.ca/event/wednesday-women-support-group-at-carlington-chc-2-2/
LOCATION:Carlington Community Health Centre\, 900 Merivale Rd\, Ottawa\, ON\, K1Z 5Z8\, Canada
CATEGORIES:General
END:VEVENT
BEGIN:VEVENT
DTSTART;TZID=America/Toronto:20150708T130000
DTEND;TZID=America/Toronto:20150708T150000
DTSTAMP:20260423T140820
CREATED:20150610T142121Z
LAST-MODIFIED:20150610T142121Z
UID:10649-1436360400-1436367600@rileybrockington.ca
SUMMARY:Wednesday Women support group at Carlington CHC
DESCRIPTION:
URL:https://rileybrockington.ca/event/wednesday-women-support-group-at-carlington-chc-2/
LOCATION:Carlington Community Health Centre\, 900 Merivale Rd\, Ottawa\, ON\, K1Z 5Z8\, Canada
CATEGORIES:General
END:VEVENT
BEGIN:VEVENT
DTSTART;TZID=America/Toronto:20150706T110000
DTEND;TZID=America/Toronto:20150706T160000
DTSTAMP:20260423T140820
CREATED:20150609T155201Z
LAST-MODIFIED:20150610T171549Z
UID:10633-1436180400-1436198400@rileybrockington.ca
SUMMARY:Special Events - Owl Park Water Fun!
DESCRIPTION:Join the City of Ottawa for summer fun at one of our 56 wading pools across the City. \nAll special events are held from 11 am to 4 pm\, featuring arts and crafts\, games\, prizes\, and lots of time to stay cool in the pool! \nOn Monday\, July 6th the Special events will be held at Owl Park! \nFor more  information on other dates and locations\, Click HERE.\n \n 
URL:https://rileybrockington.ca/event/special-events-owl-park-water-fun/
LOCATION:Owl Park\, 215 Owl Dr\, Ottawa\, ON\, Canada
CATEGORIES:General
END:VEVENT
BEGIN:VEVENT
DTSTART;TZID=America/Toronto:20150706T110000
DTEND;TZID=America/Toronto:20150706T160000
DTSTAMP:20260423T140820
CREATED:20150609T155201Z
LAST-MODIFIED:20150609T155201Z
UID:15135-1436180400-1436198400@rileybrockington.ca
SUMMARY:Special Events - Owl Park Water Fun!
DESCRIPTION:Join the City of Ottawa for summer fun at one of our 56 wading pools across the City. \nAll special events are held from 11 am to 4 pm\, featuring arts and crafts\, games\, prizes\, and lots of time to stay cool in the pool! \nOn Monday\, July 6th the Special events will be held at Owl Park! \nFor more  information on other dates and locations\, Click HERE.\n \n 
URL:https://rileybrockington.ca/event/special-events-owl-park-water-fun-2/
LOCATION:Owl Park\, 215 Owl Dr\, Ottawa\, ON\, Canada
CATEGORIES:General
END:VEVENT
BEGIN:VEVENT
DTSTART;TZID=America/Toronto:20150703T200000
DTEND;TZID=America/Toronto:20150703T230000
DTSTAMP:20260423T140820
CREATED:20150627T013613Z
LAST-MODIFIED:20150627T013927Z
UID:10712-1435953600-1435964400@rileybrockington.ca
SUMMARY:Majic100.3 Friday Night Flicks
DESCRIPTION:  \nMAJIC 100 Presents: Friday Night Flicks\nSummers are made for family movie nights…that’s why MAJIC 100 presents: Friday Night Flicks. Bring a blanket and a lawn chair\, movies start at sundown but make sure to get there early to get a good spot! \nSummer fun starts July 3 at Mooney’s Bay Beach at sundown for Into the Woods
URL:https://rileybrockington.ca/event/majic100-3-friday-night-flicks/
LOCATION:Mooneys Bay Park\, 2960 Riverside Drive\, Ottawa\, ON\, K1V 8W6\, Canada
CATEGORIES:General
END:VEVENT
BEGIN:VEVENT
DTSTART;TZID=America/Toronto:20150703T200000
DTEND;TZID=America/Toronto:20150703T230000
DTSTAMP:20260423T140820
CREATED:20150627T013613Z
LAST-MODIFIED:20150627T013613Z
UID:15150-1435953600-1435964400@rileybrockington.ca
SUMMARY:Majic100.3 Friday Night Flicks
DESCRIPTION:  \nMAJIC 100 Presents: Friday Night Flicks\nSummers are made for family movie nights…that’s why MAJIC 100 presents: Friday Night Flicks. Bring a blanket and a lawn chair\, movies start at sundown but make sure to get there early to get a good spot! \nSummer fun starts July 3 at Mooney’s Bay Beach at sundown for Into the Woods
URL:https://rileybrockington.ca/event/majic100-3-friday-night-flicks-2/
LOCATION:Mooneys Bay Park\, 2960 Riverside Drive\, Ottawa\, ON\, K1V 8W6\, Canada
CATEGORIES:General
END:VEVENT
BEGIN:VEVENT
DTSTART;TZID=America/Toronto:20150628T100000
DTEND;TZID=America/Toronto:20150628T160000
DTSTAMP:20260423T140820
CREATED:20150528T223655Z
LAST-MODIFIED:20150528T223655Z
UID:15123-1435485600-1435507200@rileybrockington.ca
SUMMARY:Ottawa Central Park Family Fun Day
DESCRIPTION:For more information\, visit the Ottawa Central Park Website at : http://central-park.ottawa.on.ca/
URL:https://rileybrockington.ca/event/ottawa-central-park-family-fun-day-2/
LOCATION:on
CATEGORIES:General
END:VEVENT
BEGIN:VEVENT
DTSTART;TZID=America/Toronto:20150628T100000
DTEND;TZID=America/Toronto:20150628T160000
DTSTAMP:20260423T140820
CREATED:20150528T223655Z
LAST-MODIFIED:20150528T223655Z
UID:10576-1435485600-1435507200@rileybrockington.ca
SUMMARY:Ottawa Central Park Family Fun Day
DESCRIPTION:For more information\, visit the Ottawa Central Park Website at : http://central-park.ottawa.on.ca/
URL:https://rileybrockington.ca/event/ottawa-central-park-family-fun-day/
LOCATION:on
CATEGORIES:General
END:VEVENT
BEGIN:VEVENT
DTSTART;TZID=America/Toronto:20150628T080000
DTEND;TZID=America/Toronto:20150628T160000
DTSTAMP:20260423T140820
CREATED:20150625T122142Z
LAST-MODIFIED:20150625T122142Z
UID:10710-1435478400-1435507200@rileybrockington.ca
SUMMARY:Household Hazardous Waste Depot
DESCRIPTION:Ottawa – The City of Ottawa is committed to helping residents dispose of their waste in the safest and most environmentally friendly way and reminds residents that some of the waste in garages\, basements and sheds is hazardous and cannot be safely left at the curb for pickup or poured down the drain. \nHousehold hazardous waste includes items such as: \n\nAerosol containers\nBatteries (automotive/household)\nPropane cylinders\nFluorescent bulbs/tubes\nFire extinguishers\nFertilizers and pesticides\nNeedles and syringes\nPharmaceuticals\nPaints and coatings\nPool chemicals\n\nResidents can safely dispose of many kinds of household hazardous waste by returning them to participating local retailers during regular business hours. For a list of retailers who accept returns of household hazardous waste\, please visit ottawa.ca. \nAlso\, the City will host a one-day Household Hazardous Waste Depot this weekend: \nDate:  Sunday\, June 28 \nTime:  8 a.m. to 4 p.m. \nLocation: OC Transpo Park & Ride at Fallowfield Station \n 3355 Fallowfield Road \nResidents can drop off a maximum of 100 litres of household hazardous waste at no charge. Residential electronic waste is also accepted at this site.  No commercial waste will be accepted. \nFor more information on waste management and recycling\, visit ottawa.ca or call 3-1-1 (TTY: 613-580-2401). \n 
URL:https://rileybrockington.ca/event/household-hazardous-waste-depot/
LOCATION:Fallowfield Park and Ride\, 3355 Fallowfield Rd.\, Ottawa\, ON\, Canada
CATEGORIES:General
END:VEVENT
BEGIN:VEVENT
DTSTART;TZID=America/Toronto:20150628T080000
DTEND;TZID=America/Toronto:20150628T160000
DTSTAMP:20260423T140820
CREATED:20150625T122142Z
LAST-MODIFIED:20150625T122142Z
UID:15149-1435478400-1435507200@rileybrockington.ca
SUMMARY:Household Hazardous Waste Depot
DESCRIPTION:Ottawa – The City of Ottawa is committed to helping residents dispose of their waste in the safest and most environmentally friendly way and reminds residents that some of the waste in garages\, basements and sheds is hazardous and cannot be safely left at the curb for pickup or poured down the drain. \nHousehold hazardous waste includes items such as: \n\nAerosol containers\nBatteries (automotive/household)\nPropane cylinders\nFluorescent bulbs/tubes\nFire extinguishers\nFertilizers and pesticides\nNeedles and syringes\nPharmaceuticals\nPaints and coatings\nPool chemicals\n\nResidents can safely dispose of many kinds of household hazardous waste by returning them to participating local retailers during regular business hours. For a list of retailers who accept returns of household hazardous waste\, please visit ottawa.ca. \nAlso\, the City will host a one-day Household Hazardous Waste Depot this weekend: \nDate:  Sunday\, June 28 \nTime:  8 a.m. to 4 p.m. \nLocation: OC Transpo Park & Ride at Fallowfield Station \n 3355 Fallowfield Road \nResidents can drop off a maximum of 100 litres of household hazardous waste at no charge. Residential electronic waste is also accepted at this site.  No commercial waste will be accepted. \nFor more information on waste management and recycling\, visit ottawa.ca or call 3-1-1 (TTY: 613-580-2401). \n 
URL:https://rileybrockington.ca/event/household-hazardous-waste-depot-11/
LOCATION:Fallowfield Park and Ride\, 3355 Fallowfield Rd.\, Ottawa\, ON\, Canada
CATEGORIES:General
END:VEVENT
BEGIN:VEVENT
DTSTART;VALUE=DATE:20150625
DTEND;VALUE=DATE:20150629
DTSTAMP:20260423T140820
CREATED:20150528T232624Z
LAST-MODIFIED:20150528T233026Z
UID:10591-1435190400-1435535999@rileybrockington.ca
SUMMARY:Tim Hortons Ottawa Dragon Boat Festival
DESCRIPTION:June 25 – 28 \nMooney’s Bay Park \nMore information at: http://www.dragonboat.net/
URL:https://rileybrockington.ca/event/tim-hortons-ottawa-dragon-boat-festival/
LOCATION:Mooneys Bay Park\, 2960 Riverside Drive\, Ottawa\, ON\, K1V 8W6\, Canada
CATEGORIES:General
END:VEVENT
BEGIN:VEVENT
DTSTART;VALUE=DATE:20150625
DTEND;VALUE=DATE:20150629
DTSTAMP:20260423T140820
CREATED:20150528T232624Z
LAST-MODIFIED:20150528T232624Z
UID:15131-1435190400-1435535999@rileybrockington.ca
SUMMARY:Tim Hortons Ottawa Dragon Boat Festival
DESCRIPTION:June 25 – 28 \nMooney’s Bay Park \nMore information at: http://www.dragonboat.net/
URL:https://rileybrockington.ca/event/tim-hortons-ottawa-dragon-boat-festival-2/
LOCATION:Mooneys Bay Park\, 2960 Riverside Drive\, Ottawa\, ON\, K1V 8W6\, Canada
CATEGORIES:General
END:VEVENT
BEGIN:VEVENT
DTSTART;TZID=America/Toronto:20150624T193000
DTEND;TZID=America/Toronto:20150624T210000
DTSTAMP:20260423T140820
CREATED:20150617T135244Z
LAST-MODIFIED:20150617T135244Z
UID:10687-1435174200-1435179600@rileybrockington.ca
SUMMARY:Residents invited to June 24 budget primer
DESCRIPTION:City Treasurer Marian Simulik and Deputy City Treasurer Isabelle Jasmin will host a one-hour budget session\, guiding City Councillors\, media and members of the public through a primer to explain how Ottawa spends and how the annual budget is put together. \nThe presentation will be conducted simultaneously in separate rooms\, in English and French\, and will feature an overview of the budget process followed by a question and answer period. \nWhen:            Wednesday\, June 24\, 7:30 p.m. \nWhere:           City Hall\, 110 Laurier Avenue West \nEnglish:        Champlain Room\, 2nd floor \nFrench:         Honeywell Room\, 2nd floor \nThose planning to attend are asked to notify Grace.Okeefe@ottawa.ca to help gauge expected attendance. \nThe City of Ottawa is evolving its budget process to promote greater public engagement. This is an opportunity to broaden the public’s understanding of the budget process in general and the programs and services funded through the municipal budget. \nCouncillors are encouraged to invite residents\, in particular any community groups that would welcome this opportunity to be more engaged. To facilitate this\, Corporate Communications will include an article in the June 11 edition of the Weekender. Corporate Communication will also promote this session through other traditional and social media channels. \nThe presentations offered at these sessions will be subsequently posted on ottawa.ca for those unable to attend. \n 
URL:https://rileybrockington.ca/event/residents-invited-to-june-24-budget-primer/
LOCATION:city hall
CATEGORIES:General
END:VEVENT
BEGIN:VEVENT
DTSTART;TZID=America/Toronto:20150624T193000
DTEND;TZID=America/Toronto:20150624T210000
DTSTAMP:20260423T140820
CREATED:20150617T135244Z
LAST-MODIFIED:20150617T135244Z
UID:15148-1435174200-1435179600@rileybrockington.ca
SUMMARY:Residents invited to June 24 budget primer
DESCRIPTION:City Treasurer Marian Simulik and Deputy City Treasurer Isabelle Jasmin will host a one-hour budget session\, guiding City Councillors\, media and members of the public through a primer to explain how Ottawa spends and how the annual budget is put together. \nThe presentation will be conducted simultaneously in separate rooms\, in English and French\, and will feature an overview of the budget process followed by a question and answer period. \nWhen:            Wednesday\, June 24\, 7:30 p.m. \nWhere:           City Hall\, 110 Laurier Avenue West \nEnglish:        Champlain Room\, 2nd floor \nFrench:         Honeywell Room\, 2nd floor \nThose planning to attend are asked to notify Grace.Okeefe@ottawa.ca to help gauge expected attendance. \nThe City of Ottawa is evolving its budget process to promote greater public engagement. This is an opportunity to broaden the public’s understanding of the budget process in general and the programs and services funded through the municipal budget. \nCouncillors are encouraged to invite residents\, in particular any community groups that would welcome this opportunity to be more engaged. To facilitate this\, Corporate Communications will include an article in the June 11 edition of the Weekender. Corporate Communication will also promote this session through other traditional and social media channels. \nThe presentations offered at these sessions will be subsequently posted on ottawa.ca for those unable to attend. \n 
URL:https://rileybrockington.ca/event/residents-invited-to-june-24-budget-primer-2/
LOCATION:city hall
CATEGORIES:General
END:VEVENT
BEGIN:VEVENT
DTSTART;TZID=America/Toronto:20150624T130000
DTEND;TZID=America/Toronto:20150624T150000
DTSTAMP:20260423T140820
CREATED:20150610T140553Z
LAST-MODIFIED:20150610T140553Z
UID:15143-1435150800-1435158000@rileybrockington.ca
SUMMARY:Wednesday Women support group at Carlington CHC
DESCRIPTION:
URL:https://rileybrockington.ca/event/wednesday-women-support-group-at-carlington-chc-6/
LOCATION:Carlington Community Health Centre\, 900 Merivale Rd\, Ottawa\, ON\, K1Z 5Z8\, Canada
CATEGORIES:General
END:VEVENT
BEGIN:VEVENT
DTSTART;TZID=America/Toronto:20150624T130000
DTEND;TZID=America/Toronto:20150624T150000
DTSTAMP:20260423T140820
CREATED:20150610T140553Z
LAST-MODIFIED:20150610T140553Z
UID:10648-1435150800-1435158000@rileybrockington.ca
SUMMARY:Wednesday Women support group at Carlington CHC
DESCRIPTION:
URL:https://rileybrockington.ca/event/wednesday-women-support-group-at-carlington-chc/
LOCATION:Carlington Community Health Centre\, 900 Merivale Rd\, Ottawa\, ON\, K1Z 5Z8\, Canada
CATEGORIES:General
END:VEVENT
BEGIN:VEVENT
DTSTART;TZID=America/Toronto:20150623T163000
DTEND;TZID=America/Toronto:20150623T190000
DTSTAMP:20260423T140820
CREATED:20150528T165146Z
LAST-MODIFIED:20150528T165146Z
UID:15120-1435077000-1435086000@rileybrockington.ca
SUMMARY:Carlington Community Health Centre 30th Anniversary Celebrations
DESCRIPTION:
URL:https://rileybrockington.ca/event/carlington-community-health-centre-30th-anniversary-celebrations-2/
LOCATION:Carlington Community Health Centre\, 900 Merivale Rd\, Ottawa\, ON\, K1Z 5Z8\, Canada
CATEGORIES:General
END:VEVENT
BEGIN:VEVENT
DTSTART;TZID=America/Toronto:20150623T163000
DTEND;TZID=America/Toronto:20150623T190000
DTSTAMP:20260423T140820
CREATED:20150528T165146Z
LAST-MODIFIED:20150528T165146Z
UID:10569-1435077000-1435086000@rileybrockington.ca
SUMMARY:Carlington Community Health Centre 30th Anniversary Celebrations
DESCRIPTION:
URL:https://rileybrockington.ca/event/carlington-community-health-centre-30th-anniversary-celebrations/
LOCATION:Carlington Community Health Centre\, 900 Merivale Rd\, Ottawa\, ON\, K1Z 5Z8\, Canada
CATEGORIES:General
END:VEVENT
BEGIN:VEVENT
DTSTART;TZID=America/Toronto:20150620T100000
DTEND;TZID=America/Toronto:20150620T160000
DTSTAMP:20260423T140820
CREATED:20150528T230111Z
LAST-MODIFIED:20150528T230111Z
UID:10587-1434794400-1434816000@rileybrockington.ca
SUMMARY:W.E. Gowling Public School - School Council Song and Storyfest Book Fair
DESCRIPTION:June 20 10-4pm School Council Song and Storyfest Book Fair \n250 Anna Ave\, Ottawa \n http://wegowlingps.blogspot.ca/
URL:https://rileybrockington.ca/event/w-e-gowling-public-school-school-council-song-and-storyfest-book-fair/
LOCATION:on
CATEGORIES:General
END:VEVENT
END:VCALENDAR