BEGIN:VCALENDAR
VERSION:2.0
PRODID:-//Riley Brockington, City Councillor (River Ward) - ECPv6.8.3//NONSGML v1.0//EN
CALSCALE:GREGORIAN
METHOD:PUBLISH
X-WR-CALNAME:Riley Brockington, City Councillor (River Ward)
X-ORIGINAL-URL:https://rileybrockington.ca
X-WR-CALDESC:Events for Riley Brockington, City Councillor (River Ward)
REFRESH-INTERVAL;VALUE=DURATION:PT1H
X-Robots-Tag:noindex
X-PUBLISHED-TTL:PT1H
BEGIN:VTIMEZONE
TZID:America/Toronto
BEGIN:DAYLIGHT
TZOFFSETFROM:-0500
TZOFFSETTO:-0400
TZNAME:EDT
DTSTART:20150308T070000
END:DAYLIGHT
BEGIN:STANDARD
TZOFFSETFROM:-0400
TZOFFSETTO:-0500
TZNAME:EST
DTSTART:20151101T060000
END:STANDARD
END:VTIMEZONE
BEGIN:VEVENT
DTSTART;TZID=America/Toronto:20151001T170000
DTEND;TZID=America/Toronto:20151001T210000
DTSTAMP:20260422T233153
CREATED:20150924T115758Z
LAST-MODIFIED:20150924T115844Z
UID:10912-1443718800-1443733200@rileybrockington.ca
SUMMARY:Public forum to aid Syrian resettlement efforts
DESCRIPTION:Ottawa – Ottawa residents can explore opportunities to play a role in the sponsorship and resettlement of Syrian refugees. The Mayor’s Public Forum on the Syrian Refugee Resettlement Efforts will bring together residents and community groups with subject-matter experts who will provide the knowledge and contacts to make their involvement possible. \nDate: Thursday\, October 1 \nLocation: Jean Pigott Place\n Ottawa City Hall\n 110 Laurier Avenue West \nInformation fair: 5 to 7:30 p.m. \nCommunity organizations involved with the sponsorship and settlement of refugees will be available to provide information and answer questions about the services they provide. \nPanel presentations: 5:30 to 7 p.m. \nExperts in refugee resettlement and representatives from frontline organizations serving refugees will give short presentations about how residents and community groups can assist in resettlement efforts. This will be followed by a question-and-answer session. \nLegal clinic: 7 to 9 p.m. \nOffered by lawyers from the University of Ottawa’s Refugee Sponsorship Support Program and the Canadian Association of Refugee Lawyers\, this legal clinic will provide assistance to residents wishing to sponsor Syrian refugees. \nFor more information about the forum\, please contact 3-1-1 or visit the City’s website\, ottawa.ca.
URL:https://rileybrockington.ca/event/public-forum-to-aid-syrian-resettlement-efforts/
LOCATION:Ottawa City Hall\, 110 Laurier Ave West\, Ottawa\, ON\, K1P1J1\, Canada
CATEGORIES:General
END:VEVENT
BEGIN:VEVENT
DTSTART;TZID=America/Toronto:20151001T170000
DTEND;TZID=America/Toronto:20151001T210000
DTSTAMP:20260422T233153
CREATED:20150924T115758Z
LAST-MODIFIED:20150924T115758Z
UID:15163-1443718800-1443733200@rileybrockington.ca
SUMMARY:Public forum to aid Syrian resettlement efforts
DESCRIPTION:Ottawa – Ottawa residents can explore opportunities to play a role in the sponsorship and resettlement of Syrian refugees. The Mayor’s Public Forum on the Syrian Refugee Resettlement Efforts will bring together residents and community groups with subject-matter experts who will provide the knowledge and contacts to make their involvement possible. \nDate: Thursday\, October 1 \nLocation: Jean Pigott Place\n Ottawa City Hall\n 110 Laurier Avenue West \nInformation fair: 5 to 7:30 p.m. \nCommunity organizations involved with the sponsorship and settlement of refugees will be available to provide information and answer questions about the services they provide. \nPanel presentations: 5:30 to 7 p.m. \nExperts in refugee resettlement and representatives from frontline organizations serving refugees will give short presentations about how residents and community groups can assist in resettlement efforts. This will be followed by a question-and-answer session. \nLegal clinic: 7 to 9 p.m. \nOffered by lawyers from the University of Ottawa’s Refugee Sponsorship Support Program and the Canadian Association of Refugee Lawyers\, this legal clinic will provide assistance to residents wishing to sponsor Syrian refugees. \nFor more information about the forum\, please contact 3-1-1 or visit the City’s website\, ottawa.ca.
URL:https://rileybrockington.ca/event/public-forum-to-aid-syrian-resettlement-efforts-2/
LOCATION:Ottawa City Hall\, 110 Laurier Ave West\, Ottawa\, ON\, K1P1J1\, Canada
CATEGORIES:General
END:VEVENT
BEGIN:VEVENT
DTSTART;TZID=America/Toronto:20151001T150000
DTEND;TZID=America/Toronto:20151001T170000
DTSTAMP:20260422T233153
CREATED:20150908T122615Z
LAST-MODIFIED:20150908T122707Z
UID:10855-1443711600-1443718800@rileybrockington.ca
SUMMARY:Free Dental Screenings at Carlington Community Health Centre
DESCRIPTION:Free dental screenings at the Carlington Community Health Centre\, 900 Merivale Rd on the 1st Thursday of every month\, 3-5pm.  \nhttp://ottawa.ca/en/residents/public-health/healthy-living/access-dental-care#screening \n 
URL:https://rileybrockington.ca/event/free-dental-screenings-at-carlington-community-health-centre/
LOCATION:Carlington Community Health Centre\, 900 Merivale Rd\, Ottawa\, ON\, K1Z 5Z8\, Canada
END:VEVENT
BEGIN:VEVENT
DTSTART;TZID=America/Toronto:20151001T150000
DTEND;TZID=America/Toronto:20151001T170000
DTSTAMP:20260422T233153
CREATED:20150908T122615Z
LAST-MODIFIED:20150908T122615Z
UID:15153-1443711600-1443718800@rileybrockington.ca
SUMMARY:Free Dental Screenings at Carlington Community Health Centre
DESCRIPTION:Free dental screenings at the Carlington Community Health Centre\, 900 Merivale Rd on the 1st Thursday of every month\, 3-5pm.  \nhttp://ottawa.ca/en/residents/public-health/healthy-living/access-dental-care#screening \n 
URL:https://rileybrockington.ca/event/free-dental-screenings-at-carlington-community-health-centre-6/
LOCATION:Carlington Community Health Centre\, 900 Merivale Rd\, Ottawa\, ON\, K1Z 5Z8\, Canada
END:VEVENT
BEGIN:VEVENT
DTSTART;TZID=America/Toronto:20150926T123000
DTEND;TZID=America/Toronto:20150926T140000
DTSTAMP:20260422T233153
CREATED:20150925T184018Z
LAST-MODIFIED:20150925T184018Z
UID:15165-1443270600-1443276000@rileybrockington.ca
SUMMARY:Market Mobile - Fresh Food Truck
DESCRIPTION:
URL:https://rileybrockington.ca/event/market-mobile-fresh-food-truck-2/
LOCATION:Caldwell Gym\, 1520 Caldwell Ave\, Ottawa
CATEGORIES:General
END:VEVENT
BEGIN:VEVENT
DTSTART;TZID=America/Toronto:20150926T123000
DTEND;TZID=America/Toronto:20150926T140000
DTSTAMP:20260422T233153
CREATED:20150925T184018Z
LAST-MODIFIED:20150925T184018Z
UID:10938-1443270600-1443276000@rileybrockington.ca
SUMMARY:Market Mobile - Fresh Food Truck
DESCRIPTION:
URL:https://rileybrockington.ca/event/market-mobile-fresh-food-truck/
LOCATION:Caldwell Gym\, 1520 Caldwell Ave\, Ottawa
CATEGORIES:General
END:VEVENT
BEGIN:VEVENT
DTSTART;TZID=America/Toronto:20150926T090000
DTEND;TZID=America/Toronto:20150926T120000
DTSTAMP:20260422T233153
CREATED:20150908T122248Z
LAST-MODIFIED:20150908T122248Z
UID:10852-1443258000-1443268800@rileybrockington.ca
SUMMARY:Heron Emergency Food Centre Walkathon
DESCRIPTION:
URL:https://rileybrockington.ca/event/heron-emergency-food-centre-walkathon/
LOCATION:on
END:VEVENT
BEGIN:VEVENT
DTSTART;TZID=America/Toronto:20150926T090000
DTEND;TZID=America/Toronto:20150926T120000
DTSTAMP:20260422T233153
CREATED:20150908T122248Z
LAST-MODIFIED:20150908T122248Z
UID:15152-1443258000-1443268800@rileybrockington.ca
SUMMARY:Heron Emergency Food Centre Walkathon
DESCRIPTION:
URL:https://rileybrockington.ca/event/heron-emergency-food-centre-walkathon-2/
LOCATION:on
END:VEVENT
BEGIN:VEVENT
DTSTART;TZID=America/Toronto:20150922T130000
DTEND;TZID=America/Toronto:20150922T163000
DTSTAMP:20260422T233153
CREATED:20150910T141032Z
LAST-MODIFIED:20150910T141032Z
UID:10863-1442926800-1442939400@rileybrockington.ca
SUMMARY:Employment Counselling Services
DESCRIPTION:
URL:https://rileybrockington.ca/event/employment-counselling-services/
LOCATION:Carlington Community Health Centre\, 900 Merivale Rd\, Ottawa\, ON\, K1Z 5Z8\, Canada
END:VEVENT
BEGIN:VEVENT
DTSTART;TZID=America/Toronto:20150922T130000
DTEND;TZID=America/Toronto:20150922T163000
DTSTAMP:20260422T233153
CREATED:20150910T141032Z
LAST-MODIFIED:20150910T141032Z
UID:15155-1442926800-1442939400@rileybrockington.ca
SUMMARY:Employment Counselling Services
DESCRIPTION:
URL:https://rileybrockington.ca/event/employment-counselling-services-6/
LOCATION:Carlington Community Health Centre\, 900 Merivale Rd\, Ottawa\, ON\, K1Z 5Z8\, Canada
END:VEVENT
BEGIN:VEVENT
DTSTART;TZID=America/Toronto:20150916T180000
DTEND;TZID=America/Toronto:20150916T210000
DTSTAMP:20260422T233153
CREATED:20150908T122012Z
LAST-MODIFIED:20150908T122012Z
UID:10850-1442426400-1442437200@rileybrockington.ca
SUMMARY:Ecology Ottawa - Renewable Cities Presentation
DESCRIPTION:
URL:https://rileybrockington.ca/event/ecology-ottawa-renewable-cities-presentation/
LOCATION:city hall
END:VEVENT
BEGIN:VEVENT
DTSTART;TZID=America/Toronto:20150916T180000
DTEND;TZID=America/Toronto:20150916T210000
DTSTAMP:20260422T233153
CREATED:20150908T122012Z
LAST-MODIFIED:20150908T122012Z
UID:15151-1442426400-1442437200@rileybrockington.ca
SUMMARY:Ecology Ottawa - Renewable Cities Presentation
DESCRIPTION:
URL:https://rileybrockington.ca/event/ecology-ottawa-renewable-cities-presentation-2/
LOCATION:city hall
END:VEVENT
BEGIN:VEVENT
DTSTART;TZID=America/Toronto:20150819T130000
DTEND;TZID=America/Toronto:20150819T150000
DTSTAMP:20260422T233153
CREATED:20150610T143229Z
LAST-MODIFIED:20150710T185502Z
UID:10655-1439989200-1439996400@rileybrockington.ca
SUMMARY:Wednesday Women support group at Carlington CHC
DESCRIPTION:
URL:https://rileybrockington.ca/event/wednesday-women-support-group-at-carlington-chc-5/
LOCATION:Carlington Community Health Centre\, 900 Merivale Rd\, Ottawa\, ON\, K1Z 5Z8\, Canada
END:VEVENT
BEGIN:VEVENT
DTSTART;TZID=America/Toronto:20150819T130000
DTEND;TZID=America/Toronto:20150819T150000
DTSTAMP:20260422T233153
CREATED:20150610T143229Z
LAST-MODIFIED:20150610T143229Z
UID:15147-1439989200-1439996400@rileybrockington.ca
SUMMARY:Wednesday Women support group at Carlington CHC
DESCRIPTION:
URL:https://rileybrockington.ca/event/wednesday-women-support-group-at-carlington-chc-5-2/
LOCATION:Carlington Community Health Centre\, 900 Merivale Rd\, Ottawa\, ON\, K1Z 5Z8\, Canada
END:VEVENT
BEGIN:VEVENT
DTSTART;TZID=America/Toronto:20150819T110000
DTEND;TZID=America/Toronto:20150819T160000
DTSTAMP:20260422T233153
CREATED:20150609T164147Z
LAST-MODIFIED:20150609T170105Z
UID:10642-1439982000-1440000000@rileybrockington.ca
SUMMARY:Special Events - Raven Park Wading Pool!
DESCRIPTION:Join the City of Ottawa for summer fun at one of our 56 wading pools across the City. \nAll special events are held from 11 am to 4 pm\, featuring arts and crafts\, games\, prizes\, and lots of time to stay cool in the pool! \nOn Wednesday\, August 19th\, the Special events will be held at Raven Park! \nFor more  information on other dates and locations\, Click HERE.
URL:https://rileybrockington.ca/event/special-events-raven-park-wading-pool/
LOCATION:Raven Park\, 1500 Larose Ave\, Ottawa\, ON\, Canada
CATEGORIES:General
END:VEVENT
BEGIN:VEVENT
DTSTART;TZID=America/Toronto:20150819T110000
DTEND;TZID=America/Toronto:20150819T160000
DTSTAMP:20260422T233153
CREATED:20150609T164147Z
LAST-MODIFIED:20150609T164147Z
UID:15141-1439982000-1440000000@rileybrockington.ca
SUMMARY:Special Events - Raven Park Wading Pool!
DESCRIPTION:Join the City of Ottawa for summer fun at one of our 56 wading pools across the City. \nAll special events are held from 11 am to 4 pm\, featuring arts and crafts\, games\, prizes\, and lots of time to stay cool in the pool! \nOn Wednesday\, August 19th\, the Special events will be held at Raven Park! \nFor more  information on other dates and locations\, Click HERE.
URL:https://rileybrockington.ca/event/special-events-raven-park-wading-pool-2/
LOCATION:Raven Park\, 1500 Larose Ave\, Ottawa\, ON\, Canada
CATEGORIES:General
END:VEVENT
BEGIN:VEVENT
DTSTART;TZID=America/Toronto:20150810T110000
DTEND;TZID=America/Toronto:20150810T160000
DTSTAMP:20260422T233153
CREATED:20150609T161834Z
LAST-MODIFIED:20150609T161834Z
UID:10640-1439204400-1439222400@rileybrockington.ca
SUMMARY:Special Events - Rideauview Park Wading Pool!
DESCRIPTION:Join the City of Ottawa for summer fun at one of our 56 wading pools across the City. \nAll special events are held from 11 am to 4 pm\, featuring arts and crafts\, games\, prizes\, and lots of time to stay cool in the pool! \nOn Monday\, August 10th\, the Special events will be held at Rideauview Park! \nFor more  information on other dates and locations\, Click HERE.
URL:https://rileybrockington.ca/event/special-events-rideauview-park-wading-pool/
LOCATION:Rideauview Park\, 960 Eiffel Ave\, Ottawa\, ON\, Canada
CATEGORIES:General
END:VEVENT
BEGIN:VEVENT
DTSTART;TZID=America/Toronto:20150810T110000
DTEND;TZID=America/Toronto:20150810T160000
DTSTAMP:20260422T233153
CREATED:20150609T161834Z
LAST-MODIFIED:20150609T161834Z
UID:15140-1439204400-1439222400@rileybrockington.ca
SUMMARY:Special Events - Rideauview Park Wading Pool!
DESCRIPTION:Join the City of Ottawa for summer fun at one of our 56 wading pools across the City. \nAll special events are held from 11 am to 4 pm\, featuring arts and crafts\, games\, prizes\, and lots of time to stay cool in the pool! \nOn Monday\, August 10th\, the Special events will be held at Rideauview Park! \nFor more  information on other dates and locations\, Click HERE.
URL:https://rileybrockington.ca/event/special-events-rideauview-park-wading-pool-2/
LOCATION:Rideauview Park\, 960 Eiffel Ave\, Ottawa\, ON\, Canada
CATEGORIES:General
END:VEVENT
BEGIN:VEVENT
DTSTART;TZID=America/Toronto:20150806T110000
DTEND;TZID=America/Toronto:20150806T160000
DTSTAMP:20260422T233153
CREATED:20150609T161143Z
LAST-MODIFIED:20150609T161301Z
UID:10638-1438858800-1438876800@rileybrockington.ca
SUMMARY:Special Events - Meadowvale Park Wading Pool!
DESCRIPTION:Join the City of Ottawa for summer fun at one of our 56 wading pools across the City. \nAll special events are held from 11 am to 4 pm\, featuring arts and crafts\, games\, prizes\, and lots of time to stay cool in the pool! \nOn Thursday\, August 6th\, the Special events will be held at Meadowvale Park! \nFor more  information on other dates and locations\, Click HERE.
URL:https://rileybrockington.ca/event/special-events-meadowvale-park-wading-pool/
LOCATION:Meadowvale Park\, 1205 Trenton Ave\, Ottawa\, ON\, Canada
CATEGORIES:General
END:VEVENT
BEGIN:VEVENT
DTSTART;TZID=America/Toronto:20150806T110000
DTEND;TZID=America/Toronto:20150806T160000
DTSTAMP:20260422T233153
CREATED:20150609T161143Z
LAST-MODIFIED:20150609T161143Z
UID:15139-1438858800-1438876800@rileybrockington.ca
SUMMARY:Special Events - Meadowvale Park Wading Pool!
DESCRIPTION:Join the City of Ottawa for summer fun at one of our 56 wading pools across the City. \nAll special events are held from 11 am to 4 pm\, featuring arts and crafts\, games\, prizes\, and lots of time to stay cool in the pool! \nOn Thursday\, August 6th\, the Special events will be held at Meadowvale Park! \nFor more  information on other dates and locations\, Click HERE.
URL:https://rileybrockington.ca/event/special-events-meadowvale-park-wading-pool-2/
LOCATION:Meadowvale Park\, 1205 Trenton Ave\, Ottawa\, ON\, Canada
CATEGORIES:General
END:VEVENT
BEGIN:VEVENT
DTSTART;TZID=America/Toronto:20150805T130000
DTEND;TZID=America/Toronto:20150805T150000
DTSTAMP:20260422T233153
CREATED:20150610T142747Z
LAST-MODIFIED:20150710T192356Z
UID:10653-1438779600-1438786800@rileybrockington.ca
SUMMARY:Wednesday Women support group at Carlington CHC
DESCRIPTION:
URL:https://rileybrockington.ca/event/wednesday-women-support-group-at-carlington-chc-4/
LOCATION:Carlington Community Health Centre\, 900 Merivale Rd\, Ottawa\, ON\, K1Z 5Z8\, Canada
CATEGORIES:General
END:VEVENT
BEGIN:VEVENT
DTSTART;TZID=America/Toronto:20150805T130000
DTEND;TZID=America/Toronto:20150805T150000
DTSTAMP:20260422T233153
CREATED:20150610T142747Z
LAST-MODIFIED:20150610T142747Z
UID:15146-1438779600-1438786800@rileybrockington.ca
SUMMARY:Wednesday Women support group at Carlington CHC
DESCRIPTION:
URL:https://rileybrockington.ca/event/wednesday-women-support-group-at-carlington-chc-4-2/
LOCATION:Carlington Community Health Centre\, 900 Merivale Rd\, Ottawa\, ON\, K1Z 5Z8\, Canada
CATEGORIES:General
END:VEVENT
BEGIN:VEVENT
DTSTART;TZID=America/Toronto:20150731T100000
DTEND;TZID=America/Toronto:20150731T160000
DTSTAMP:20260422T233153
CREATED:20150609T160548Z
LAST-MODIFIED:20150609T160548Z
UID:10637-1438336800-1438358400@rileybrockington.ca
SUMMARY:Special Events - Pauline Vanier Park Wading Pool!
DESCRIPTION:Join the City of Ottawa for summer fun at one of our 56 wading pools across the City. \nAll special events are held from 11 am to 4 pm\, featuring arts and crafts\, games\, prizes\, and lots of time to stay cool in the pool! \nOn Friday\, July 31st\, the Special events will be held at Pauline Vanier Park! \nFor more  information on other dates and locations\, Click HERE.\n \n 
URL:https://rileybrockington.ca/event/special-events-pauline-vanier-park-wading-pool/
LOCATION:on
CATEGORIES:General
END:VEVENT
BEGIN:VEVENT
DTSTART;TZID=America/Toronto:20150731T100000
DTEND;TZID=America/Toronto:20150731T160000
DTSTAMP:20260422T233153
CREATED:20150609T160548Z
LAST-MODIFIED:20150609T160548Z
UID:15138-1438336800-1438358400@rileybrockington.ca
SUMMARY:Special Events - Pauline Vanier Park Wading Pool!
DESCRIPTION:Join the City of Ottawa for summer fun at one of our 56 wading pools across the City. \nAll special events are held from 11 am to 4 pm\, featuring arts and crafts\, games\, prizes\, and lots of time to stay cool in the pool! \nOn Friday\, July 31st\, the Special events will be held at Pauline Vanier Park! \nFor more  information on other dates and locations\, Click HERE.\n \n 
URL:https://rileybrockington.ca/event/special-events-pauline-vanier-park-wading-pool-2/
LOCATION:on
CATEGORIES:General
END:VEVENT
BEGIN:VEVENT
DTSTART;TZID=America/Toronto:20150722T130000
DTEND;TZID=America/Toronto:20150722T150000
DTSTAMP:20260422T233153
CREATED:20150610T142425Z
LAST-MODIFIED:20150710T185615Z
UID:10650-1437570000-1437577200@rileybrockington.ca
SUMMARY:Wednesday Women support group at Carlington CHC
DESCRIPTION:
URL:https://rileybrockington.ca/event/wednesday-women-support-group-at-carlington-chc-3/
LOCATION:Carlington Community Health Centre\, 900 Merivale Rd\, Ottawa\, ON\, K1Z 5Z8\, Canada
CATEGORIES:General
END:VEVENT
BEGIN:VEVENT
DTSTART;TZID=America/Toronto:20150722T130000
DTEND;TZID=America/Toronto:20150722T150000
DTSTAMP:20260422T233153
CREATED:20150610T142425Z
LAST-MODIFIED:20150610T142425Z
UID:15145-1437570000-1437577200@rileybrockington.ca
SUMMARY:Wednesday Women support group at Carlington CHC
DESCRIPTION:
URL:https://rileybrockington.ca/event/wednesday-women-support-group-at-carlington-chc-3-2/
LOCATION:Carlington Community Health Centre\, 900 Merivale Rd\, Ottawa\, ON\, K1Z 5Z8\, Canada
CATEGORIES:General
END:VEVENT
BEGIN:VEVENT
DTSTART;TZID=America/Toronto:20150722T110000
DTEND;TZID=America/Toronto:20150722T160000
DTSTAMP:20260422T233153
CREATED:20150609T160240Z
LAST-MODIFIED:20150609T160402Z
UID:10636-1437562800-1437580800@rileybrockington.ca
SUMMARY:Special Events - Carleton Heights Wading Pool!
DESCRIPTION:Join the City of Ottawa for summer fun at one of our 56 wading pools across the City. \nAll special events are held from 11 am to 4 pm\, featuring arts and crafts\, games\, prizes\, and lots of time to stay cool in the pool! \nOn Wednesday\, July 22nd the Special Events will be held at Carleton Heights Park! \nFor more  information on other dates and locations\, Click HERE.\n \n 
URL:https://rileybrockington.ca/event/special-events-carleton-heights-wading-pool/
LOCATION:on
CATEGORIES:General
END:VEVENT
BEGIN:VEVENT
DTSTART;TZID=America/Toronto:20150722T110000
DTEND;TZID=America/Toronto:20150722T160000
DTSTAMP:20260422T233153
CREATED:20150609T160240Z
LAST-MODIFIED:20150609T160240Z
UID:15137-1437562800-1437580800@rileybrockington.ca
SUMMARY:Special Events - Carleton Heights Wading Pool!
DESCRIPTION:Join the City of Ottawa for summer fun at one of our 56 wading pools across the City. \nAll special events are held from 11 am to 4 pm\, featuring arts and crafts\, games\, prizes\, and lots of time to stay cool in the pool! \nOn Wednesday\, July 22nd the Special Events will be held at Carleton Heights Park! \nFor more  information on other dates and locations\, Click HERE.\n \n 
URL:https://rileybrockington.ca/event/special-events-carleton-heights-wading-pool-2/
LOCATION:on
CATEGORIES:General
END:VEVENT
BEGIN:VEVENT
DTSTART;TZID=America/Toronto:20150717T110000
DTEND;TZID=America/Toronto:20150717T160000
DTSTAMP:20260422T233153
CREATED:20150609T155622Z
LAST-MODIFIED:20150609T165605Z
UID:10635-1437130800-1437148800@rileybrockington.ca
SUMMARY:Special Events - Alexander Park Wading Pool!
DESCRIPTION:Join the City of Ottawa for summer fun at one of our 56 wading pools across the City. \nAll special events are held from 11 am to 4 pm\, featuring arts and crafts\, games\, prizes\, and lots of time to stay cool in the pool! \nOn Friday\, July 17th the Special events will be held at Alexander Park! \nFor more  information on other dates and locations\, Click HERE.\n \n 
URL:https://rileybrockington.ca/event/special-events-alexander-park-wading-pool/
LOCATION:on
END:VEVENT
BEGIN:VEVENT
DTSTART;TZID=America/Toronto:20150717T110000
DTEND;TZID=America/Toronto:20150717T160000
DTSTAMP:20260422T233153
CREATED:20150609T155622Z
LAST-MODIFIED:20150609T155622Z
UID:15136-1437130800-1437148800@rileybrockington.ca
SUMMARY:Special Events - Alexander Park Wading Pool!
DESCRIPTION:Join the City of Ottawa for summer fun at one of our 56 wading pools across the City. \nAll special events are held from 11 am to 4 pm\, featuring arts and crafts\, games\, prizes\, and lots of time to stay cool in the pool! \nOn Friday\, July 17th the Special events will be held at Alexander Park! \nFor more  information on other dates and locations\, Click HERE.\n \n 
URL:https://rileybrockington.ca/event/special-events-alexander-park-wading-pool-2/
LOCATION:on
END:VEVENT
END:VCALENDAR