BEGIN:VCALENDAR
VERSION:2.0
PRODID:-//Riley Brockington, City Councillor (River Ward) - ECPv6.8.3//NONSGML v1.0//EN
CALSCALE:GREGORIAN
METHOD:PUBLISH
X-ORIGINAL-URL:https://rileybrockington.ca
X-WR-CALDESC:Events for Riley Brockington, City Councillor (River Ward)
REFRESH-INTERVAL;VALUE=DURATION:PT1H
X-Robots-Tag:noindex
X-PUBLISHED-TTL:PT1H
BEGIN:VTIMEZONE
TZID:America/New_York
BEGIN:DAYLIGHT
TZOFFSETFROM:-0500
TZOFFSETTO:-0400
TZNAME:EDT
DTSTART:20180311T070000
END:DAYLIGHT
BEGIN:STANDARD
TZOFFSETFROM:-0400
TZOFFSETTO:-0500
TZNAME:EST
DTSTART:20181104T060000
END:STANDARD
END:VTIMEZONE
BEGIN:VEVENT
DTSTART;TZID=America/New_York:20181023T150000
DTEND;TZID=America/New_York:20181023T180000
DTSTAMP:20260424T164249
CREATED:20181023T150336Z
LAST-MODIFIED:20181023T150336Z
UID:14014-1540306800-1540317600@rileybrockington.ca
SUMMARY:Taking Care of Yourself and Your Community - Carlington Community Health Centre
DESCRIPTION:
URL:https://rileybrockington.ca/event/taking-care-of-yourself-and-your-community-carlington-community-health-centre/
LOCATION:Carlington Community Health Centre\, 900 Merivale Rd\, Ottawa\, ON\, K1Z 5Z8\, Canada
CATEGORIES:General
END:VEVENT
BEGIN:VEVENT
DTSTART;TZID=America/New_York:20181027T090000
DTEND;TZID=America/New_York:20181027T120000
DTSTAMP:20260424T164249
CREATED:20181023T141801Z
LAST-MODIFIED:20181023T141801Z
UID:14009-1540630800-1540641600@rileybrockington.ca
SUMMARY:Everything Christmas Bazaar
DESCRIPTION:
URL:https://rileybrockington.ca/event/everything-christmas-bazaar/
LOCATION:Riverside Churches\, 3191 Riverside Drive\, Ottawa\, ON\, K1V 8N8\, Canada
CATEGORIES:General
END:VEVENT
BEGIN:VEVENT
DTSTART;TZID=America/New_York:20181027T160000
DTEND;TZID=America/New_York:20181027T190000
DTSTAMP:20260424T164249
CREATED:20181023T162006Z
LAST-MODIFIED:20181023T164547Z
UID:14017-1540656000-1540666800@rileybrockington.ca
SUMMARY:Trick or Treat with the Mayor
DESCRIPTION:
URL:https://rileybrockington.ca/event/14017/
LOCATION:City Hall\, Andrew Haydon Hall (Council Chamber)
CATEGORIES:General
END:VEVENT
BEGIN:VEVENT
DTSTART;TZID=America/New_York:20181028T100000
DTEND;TZID=America/New_York:20181028T170000
DTSTAMP:20260424T164249
CREATED:20181023T134829Z
LAST-MODIFIED:20181023T134829Z
UID:14002-1540720800-1540746000@rileybrockington.ca
SUMMARY:Friends of the Farm Tree Tour
DESCRIPTION:October 28th – Friends of the Farm Tree Tour at 10am Bldg 72\, Arboretum.  Endangered Trees and New Appearances.  Tour leaders Ken Farr and Eric Jones will focus on trees that are listed on the Canadian Species at Risk Act or are closely related to endangered species.   Free\, public welcome.  Register online\, by calling 613-230-3276 or visit  friendsofthefarm.ca/arboretum-tree-tours/
URL:https://rileybrockington.ca/event/friends-of-the-farm-tree-tour-4/
LOCATION:Arboretum\, Central Experimental Farm\, 960 Carling Ave\, Ottawa
CATEGORIES:General
END:VEVENT
BEGIN:VEVENT
DTSTART;TZID=America/New_York:20181028T190000
DTEND;TZID=America/New_York:20181028T210000
DTSTAMP:20260424T164249
CREATED:20181023T164645Z
LAST-MODIFIED:20181023T164645Z
UID:14021-1540753200-1540760400@rileybrockington.ca
SUMMARY:Jamaica Night Fundraiser
DESCRIPTION:
URL:https://rileybrockington.ca/event/jamaica-night-fundraiser/
LOCATION:Riverside Churches\, 3191 Riverside Drive\, Ottawa\, ON\, K1V 8N8\, Canada
CATEGORIES:General
END:VEVENT
END:VCALENDAR