BEGIN:VCALENDAR
VERSION:2.0
PRODID:-//Riley Brockington, City Councillor (River Ward) - ECPv6.8.3//NONSGML v1.0//EN
CALSCALE:GREGORIAN
METHOD:PUBLISH
X-WR-CALNAME:Riley Brockington, City Councillor (River Ward)
X-ORIGINAL-URL:https://rileybrockington.ca
X-WR-CALDESC:Events for Riley Brockington, City Councillor (River Ward)
REFRESH-INTERVAL;VALUE=DURATION:PT1H
X-Robots-Tag:noindex
X-PUBLISHED-TTL:PT1H
BEGIN:VTIMEZONE
TZID:America/New_York
BEGIN:DAYLIGHT
TZOFFSETFROM:-0500
TZOFFSETTO:-0400
TZNAME:EDT
DTSTART:20180311T070000
END:DAYLIGHT
BEGIN:STANDARD
TZOFFSETFROM:-0400
TZOFFSETTO:-0500
TZNAME:EST
DTSTART:20181104T060000
END:STANDARD
END:VTIMEZONE
BEGIN:VEVENT
DTSTART;TZID=America/New_York:20181106T183000
DTEND;TZID=America/New_York:20181106T203000
DTSTAMP:20260424T150809
CREATED:20181023T141227Z
LAST-MODIFIED:20181023T141227Z
UID:14006-1541529000-1541536200@rileybrockington.ca
SUMMARY:Council on Aging - Planning for Retirement on a Low Income
DESCRIPTION:Planning for Retirement on a Low Income \nNovember 6\, 2018\, 6:30 pm -8:30 pm \nMain Branch\, Ottawa Public Library \nLearn about ‘low income’\, reducing taxable income\, protecting your retirement income. \nRegister Now
URL:https://rileybrockington.ca/event/council-on-aging-planning-for-retirement-on-a-low-income/
LOCATION:Main Branch\, Ottawa Public Library\, 120 Metcalfe St\, Ottawa\, on\, K1P 5M2
CATEGORIES:General
END:VEVENT
BEGIN:VEVENT
DTSTART;TZID=America/New_York:20181106T190000
DTEND;TZID=America/New_York:20181106T210000
DTSTAMP:20260424T150809
CREATED:20181023T134937Z
LAST-MODIFIED:20181023T140839Z
UID:14004-1541530800-1541538000@rileybrockington.ca
SUMMARY:Friends of the Farm - Master Gardener Lecture
DESCRIPTION:November 6 Friends of the Farm Master Gardener Lecture 7 to 9pm. “A Brief History of English Country House Gardens” with Heather Clemenson. FCEF members $12\, non-members $15\, Bldg 72 CEF Arboretum. 613-230-3276 friendsofthefarm.ca/master-gardener-lectures-2018/
URL:https://rileybrockington.ca/event/friends-of-the-farm-master-gardener-lecture-4/
LOCATION:Arboretum\, Central Experimental Farm\, 960 Carling Ave\, Ottawa
CATEGORIES:General
END:VEVENT
BEGIN:VEVENT
DTSTART;TZID=America/New_York:20181110T100000
DTEND;TZID=America/New_York:20181110T140000
DTSTAMP:20260424T150809
CREATED:20181023T170520Z
LAST-MODIFIED:20181023T170520Z
UID:14023-1541844000-1541858400@rileybrockington.ca
SUMMARY:Riverside United Church Christmas Bazaar
DESCRIPTION:
URL:https://rileybrockington.ca/event/riverside-united-church-christmas-bazaar-2/
LOCATION:Riverside Churches\, 3191 Riverside Drive\, Ottawa\, ON\, K1V 8N8\, Canada
CATEGORIES:General
END:VEVENT
BEGIN:VEVENT
DTSTART;TZID=America/New_York:20181117T090000
DTEND;TZID=America/New_York:20181117T140000
DTSTAMP:20260424T150809
CREATED:20181030T120015Z
LAST-MODIFIED:20181030T120015Z
UID:14042-1542445200-1542463200@rileybrockington.ca
SUMMARY:Annual Caldwell Family Centre Bazaar
DESCRIPTION:
URL:https://rileybrockington.ca/event/annual-caldwell-family-centre-bazaar/
LOCATION:J.A. Dulude Arena\, 941 Clyde Ave\, Ottawa\, ON\, K2C 4B2
CATEGORIES:General
END:VEVENT
BEGIN:VEVENT
DTSTART;TZID=America/New_York:20181124T100000
DTEND;TZID=America/New_York:20181124T150000
DTSTAMP:20260424T150809
CREATED:20181113T195842Z
LAST-MODIFIED:20181113T195842Z
UID:14072-1543053600-1543071600@rileybrockington.ca
SUMMARY:Riverside Churches - Vendors Market
DESCRIPTION:Vendors Market\nSaturday 24th of November\nDoors open 10:00 a.m. to 3:00 p.m.\nFundraiser in support of Riverside Churches\n3191 Riverside Dr (at Walkley) \n\nCome & either purchase that day or place an order.\nOrders will also be taken in advance. \n\nTowards Capital expenses\, a great way to get your Christmas shopping done.\nThere will be tea and coffee available and card tables with chairs set out so you can\nperuse catalogues or think about your purchases. All are welcome so please pass the\ninformation on. \nCompanies confirmed to date Avon\, Epicure\, Fifth Avenue Jewelry\, Discovery\nToys\, Rosie’s Homemade Fudge\, Pampered Chef\, PartyLites\, Scentsy\, Stella & Dot\,\nSweetlegs\, Total Life Changes\, Tupperware. \n 
URL:https://rileybrockington.ca/event/riverside-churches-vendors-market/
LOCATION:Riverside Churches\, 3191 Riverside Drive\, Ottawa\, ON\, K1V 8N8\, Canada
CATEGORIES:General
END:VEVENT
BEGIN:VEVENT
DTSTART;TZID=America/New_York:20181124T100000
DTEND;TZID=America/New_York:20181124T153000
DTSTAMP:20260424T150809
CREATED:20181105T142920Z
LAST-MODIFIED:20181105T142920Z
UID:14059-1543053600-1543073400@rileybrockington.ca
SUMMARY:WE Gowling Christmas and Holiday Craft Sale
DESCRIPTION:
URL:https://rileybrockington.ca/event/we-gowling-christmas-and-holiday-craft-sale-2/
LOCATION:WE Gowling Public School\, 250 Anna Ave\, Ottawa\, Canada
CATEGORIES:General
END:VEVENT
BEGIN:VEVENT
DTSTART;TZID=America/New_York:20181124T180000
DTEND;TZID=America/New_York:20181124T210000
DTSTAMP:20260424T150809
CREATED:20181029T162853Z
LAST-MODIFIED:20181029T162853Z
UID:14038-1543082400-1543093200@rileybrockington.ca
SUMMARY:Carlington Chaplaincy Annual Fundraising Dinner
DESCRIPTION:
URL:https://rileybrockington.ca/event/carlington-chaplaincy-annual-fundraising-dinner/
LOCATION:Kitchissippi United Church\, 630 Island Park Drive\, Ottawa\, on\, Canada
CATEGORIES:General
END:VEVENT
END:VCALENDAR