BEGIN:VCALENDAR
VERSION:2.0
PRODID:-//Riley Brockington, City Councillor (River Ward) - ECPv6.8.3//NONSGML v1.0//EN
CALSCALE:GREGORIAN
METHOD:PUBLISH
X-ORIGINAL-URL:https://rileybrockington.ca
X-WR-CALDESC:Events for Riley Brockington, City Councillor (River Ward)
REFRESH-INTERVAL;VALUE=DURATION:PT1H
X-Robots-Tag:noindex
X-PUBLISHED-TTL:PT1H
BEGIN:VTIMEZONE
TZID:America/New_York
BEGIN:DAYLIGHT
TZOFFSETFROM:-0500
TZOFFSETTO:-0400
TZNAME:EDT
DTSTART:20190310T070000
END:DAYLIGHT
BEGIN:STANDARD
TZOFFSETFROM:-0400
TZOFFSETTO:-0500
TZNAME:EST
DTSTART:20191103T060000
END:STANDARD
END:VTIMEZONE
BEGIN:VEVENT
DTSTART;TZID=America/New_York:20190306T183000
DTEND;TZID=America/New_York:20190306T203000
DTSTAMP:20260424T091800
CREATED:20190225T172226Z
LAST-MODIFIED:20190225T172226Z
UID:14270-1551897000-1551904200@rileybrockington.ca
SUMMARY:River Ward Women's Day Event
DESCRIPTION:
URL:https://rileybrockington.ca/event/river-ward-womens-day-event/
LOCATION:Hunt Club-Riverside Park Community Centre\, 3320 Paul Anka Drive\, Ottawa\, ON\, Canada
CATEGORIES:General
END:VEVENT
BEGIN:VEVENT
DTSTART;TZID=America/New_York:20190310T120000
DTEND;TZID=America/New_York:20190310T150000
DTSTAMP:20260424T091800
CREATED:20190225T163159Z
LAST-MODIFIED:20190225T163159Z
UID:14266-1552219200-1552230000@rileybrockington.ca
SUMMARY:Free Movie Day
DESCRIPTION:
URL:https://rileybrockington.ca/event/free-movie-day/
LOCATION:Hunt Club-Riverside Park Community Centre\, 3320 Paul Anka Drive\, Ottawa\, ON\, Canada
CATEGORIES:General
END:VEVENT
BEGIN:VEVENT
DTSTART;TZID=America/New_York:20190328T150000
DTEND;TZID=America/New_York:20190328T163000
DTSTAMP:20260424T091800
CREATED:20190227T173725Z
LAST-MODIFIED:20190227T173725Z
UID:14284-1553785200-1553790600@rileybrockington.ca
SUMMARY:Coffee and Conversation with your Councillor
DESCRIPTION:
URL:https://rileybrockington.ca/event/coffee-and-conversation-with-your-councillor/
LOCATION:bellevue community centre\, 1475 Caldwell Avenue\, Ottawa\, On\, Canada
CATEGORIES:General
END:VEVENT
END:VCALENDAR