BEGIN:VCALENDAR
VERSION:2.0
PRODID:-//Riley Brockington, City Councillor (River Ward) - ECPv6.8.3//NONSGML v1.0//EN
CALSCALE:GREGORIAN
METHOD:PUBLISH
X-WR-CALNAME:Riley Brockington, City Councillor (River Ward)
X-ORIGINAL-URL:https://rileybrockington.ca
X-WR-CALDESC:Events for Riley Brockington, City Councillor (River Ward)
REFRESH-INTERVAL;VALUE=DURATION:PT1H
X-Robots-Tag:noindex
X-PUBLISHED-TTL:PT1H
BEGIN:VTIMEZONE
TZID:America/New_York
BEGIN:DAYLIGHT
TZOFFSETFROM:-0500
TZOFFSETTO:-0400
TZNAME:EDT
DTSTART:20190310T070000
END:DAYLIGHT
BEGIN:STANDARD
TZOFFSETFROM:-0400
TZOFFSETTO:-0500
TZNAME:EST
DTSTART:20191103T060000
END:STANDARD
END:VTIMEZONE
BEGIN:VEVENT
DTSTART;TZID=America/New_York:20190413T100000
DTEND;TZID=America/New_York:20190413T160000
DTSTAMP:20260424T091730
CREATED:20190325T130452Z
LAST-MODIFIED:20190412T125152Z
UID:14326-1555149600-1555171200@rileybrockington.ca
SUMMARY:River Ward Earth Day Celebration
DESCRIPTION:On Saturday April 13\, I will host my annual Earth Day event at the Hunt Club-Riverside Park Community Centre\, 3320 Paul Anka Drive.  This will be an all-day event featuring an electronics waste collection depot from 10am to 4pm courtesy of Junk that Funk. They will be set up in the parking lot to receive your electronic waste. \nFrom 10am to noon there will be an Earth Day Exhibition inside the community centre with numerous community partners participating and featuring a TREE GIVE AWAY with Tree Ottawa\, the Seed Lending Library with Just Foods (Community Gardens)\, games and information with Ottawa South Eco Action Network\, information from the City of Ottawa on the Green Bin Program and Clean the Capital\, and much more!  Don’t forget to enter the draw to win a pair of ticket to travel to Montreal and back courtesy of Via Rail Canada.  The Ballot box will be on my table at the Exhibition and the draw will take place at noon. \nIn the afternoon\, join me for a park cleanup of McCarthy Park. Depending on the weather\, it may vary from a garbage pickup to a full park clean-up.  If the snow is gone\, bring your rakes! \n 
URL:https://rileybrockington.ca/event/river-ward-earth-day-celebration-2/
LOCATION:Hunt Club-Riverside Park Community Centre\, 3320 Paul Anka Drive\, Ottawa\, ON\, Canada
CATEGORIES:General
END:VEVENT
BEGIN:VEVENT
DTSTART;TZID=America/New_York:20190420T090000
DTEND;TZID=America/New_York:20190420T110000
DTSTAMP:20260424T091730
CREATED:20190325T152229Z
LAST-MODIFIED:20190401T183240Z
UID:14329-1555750800-1555758000@rileybrockington.ca
SUMMARY:Carlington Pancake Breakfast
DESCRIPTION:
URL:https://rileybrockington.ca/event/carlington-pancake-breakfast/
LOCATION:Alexander Community Centre\, 960 Silver Street\, Ottawa\, ON\, Canada
CATEGORIES:General
END:VEVENT
BEGIN:VEVENT
DTSTART;TZID=America/New_York:20190427T090000
DTEND;TZID=America/New_York:20190427T120000
DTSTAMP:20260424T091730
CREATED:20190416T134754Z
LAST-MODIFIED:20190416T134754Z
UID:14365-1556355600-1556366400@rileybrockington.ca
SUMMARY:Riverside United Church Spring Garage Sale
DESCRIPTION:
URL:https://rileybrockington.ca/event/riverside-united-church-spring-garage-sale/
LOCATION:Riverside Churches\, 3191 Riverside Drive\, Ottawa\, ON\, K1V 8N8\, Canada
CATEGORIES:General
END:VEVENT
BEGIN:VEVENT
DTSTART;TZID=America/New_York:20190427T100000
DTEND;TZID=America/New_York:20190427T140000
DTSTAMP:20260424T091730
CREATED:20190325T130229Z
LAST-MODIFIED:20190401T184642Z
UID:14322-1556359200-1556373600@rileybrockington.ca
SUMMARY:Canada Agriculture and Food Museum Family Fun Day for River Ward Residents
DESCRIPTION:
URL:https://rileybrockington.ca/event/canada-agriculture-and-food-museum-family-fun-day-for-river-ward-residents/
CATEGORIES:General
END:VEVENT
BEGIN:VEVENT
DTSTART;TZID=America/New_York:20190429T103000
DTEND;TZID=America/New_York:20190429T120000
DTSTAMP:20260424T091730
CREATED:20190329T181908Z
LAST-MODIFIED:20190329T181908Z
UID:14333-1556533800-1556539200@rileybrockington.ca
SUMMARY:Coffee & Conversation with Riley - April 29\, 2019
DESCRIPTION:
URL:https://rileybrockington.ca/event/coffee-conversation-with-riley-april-29-2019/
LOCATION:bellevue community centre\, 1475 Caldwell Avenue\, Ottawa\, On\, Canada
CATEGORIES:General
END:VEVENT
END:VCALENDAR