BEGIN:VCALENDAR
VERSION:2.0
PRODID:-//Riley Brockington, City Councillor (River Ward) - ECPv6.8.3//NONSGML v1.0//EN
CALSCALE:GREGORIAN
METHOD:PUBLISH
X-WR-CALNAME:Riley Brockington, City Councillor (River Ward)
X-ORIGINAL-URL:https://rileybrockington.ca
X-WR-CALDESC:Events for Riley Brockington, City Councillor (River Ward)
REFRESH-INTERVAL;VALUE=DURATION:PT1H
X-Robots-Tag:noindex
X-PUBLISHED-TTL:PT1H
BEGIN:VTIMEZONE
TZID:America/New_York
BEGIN:DAYLIGHT
TZOFFSETFROM:-0500
TZOFFSETTO:-0400
TZNAME:EDT
DTSTART:20190310T070000
END:DAYLIGHT
BEGIN:STANDARD
TZOFFSETFROM:-0400
TZOFFSETTO:-0500
TZNAME:EST
DTSTART:20191103T060000
END:STANDARD
END:VTIMEZONE
BEGIN:VEVENT
DTSTART;TZID=America/New_York:20190706T120000
DTEND;TZID=America/New_York:20190706T170000
DTSTAMP:20260424T012955
CREATED:20190704T131118Z
LAST-MODIFIED:20190704T131129Z
UID:14543-1562414400-1562432400@rileybrockington.ca
SUMMARY:Ottawa Public Library - Tales and Tunes
DESCRIPTION:Library Tales and Tunes event has something for everyone! \nSaturday\, July 6\, 2019 \nOttawa Public Library will be holding its annual signature event\, Tales and Tunes: Family Fun Day at the Library\, on Saturday\, July 6\, from 12 noon to 5 pm at Ben Franklin Place and the Nepean Centrepointe branch.  \nTales & Tunes is a free\, family-oriented celebration of storytelling and literacies of many kinds\, presented by Ottawa Public Library (OPL)\, on Saturday\, July 6. Enjoy Indigenous\, French and English storytellers\, drumming workshops\, ukulele jams\, a strolling musician\, a magic show\, dance workshops\, crafts and musical performances by Twin Flames\, Ariko\, Monkey Rock Music\, and Juno Award winning Splash N’ Boots.  \nFurther information is available on the OPL website: https://bit.ly/2K8VQpr \n 
URL:https://rileybrockington.ca/event/ottawa-public-library-tales-and-tunes/
CATEGORIES:General
END:VEVENT
BEGIN:VEVENT
DTSTART;TZID=America/New_York:20190724T160000
DTEND;TZID=America/New_York:20190724T200000
DTSTAMP:20260424T012955
CREATED:20190709T160439Z
LAST-MODIFIED:20190709T160439Z
UID:14547-1563984000-1563998400@rileybrockington.ca
SUMMARY:Free Night at the Agriculture Museum
DESCRIPTION:
URL:https://rileybrockington.ca/event/free-night-at-the-agriculture-museum/
CATEGORIES:General
END:VEVENT
END:VCALENDAR