BEGIN:VCALENDAR
VERSION:2.0
PRODID:-//Riley Brockington, City Councillor (River Ward) - ECPv6.8.3//NONSGML v1.0//EN
CALSCALE:GREGORIAN
METHOD:PUBLISH
X-ORIGINAL-URL:https://rileybrockington.ca
X-WR-CALDESC:Events for Riley Brockington, City Councillor (River Ward)
REFRESH-INTERVAL;VALUE=DURATION:PT1H
X-Robots-Tag:noindex
X-PUBLISHED-TTL:PT1H
BEGIN:VTIMEZONE
TZID:America/New_York
BEGIN:DAYLIGHT
TZOFFSETFROM:-0500
TZOFFSETTO:-0400
TZNAME:EDT
DTSTART:20200308T070000
END:DAYLIGHT
BEGIN:STANDARD
TZOFFSETFROM:-0400
TZOFFSETTO:-0500
TZNAME:EST
DTSTART:20201101T060000
END:STANDARD
END:VTIMEZONE
BEGIN:VEVENT
DTSTART;TZID=America/New_York:20200117T180000
DTEND;TZID=America/New_York:20200117T220000
DTSTAMP:20260423T152025
CREATED:20200116T205651Z
LAST-MODIFIED:20200116T205651Z
UID:15240-1579284000-1579298400@rileybrockington.ca
SUMMARY:Youth Night in Caldwell
DESCRIPTION:
URL:https://rileybrockington.ca/event/youth-night-in-caldwell/
END:VEVENT
BEGIN:VEVENT
DTSTART;TZID=America/New_York:20200118T170000
DTEND;TZID=America/New_York:20200118T193000
DTSTAMP:20260423T152025
CREATED:20200116T205507Z
LAST-MODIFIED:20200116T205507Z
UID:15237-1579366800-1579375800@rileybrockington.ca
SUMMARY:River Ward Free Movie Night
DESCRIPTION:
URL:https://rileybrockington.ca/event/river-ward-free-movie-night-6/
LOCATION:Alexander Community Centre\, 960 Silver Street\, Ottawa\, ON\, Canada
END:VEVENT
BEGIN:VEVENT
DTSTART;TZID=America/New_York:20200125T100000
DTEND;TZID=America/New_York:20200125T160000
DTSTAMP:20260423T152025
CREATED:20200123T210837Z
LAST-MODIFIED:20200123T210837Z
UID:15321-1579946400-1579968000@rileybrockington.ca
SUMMARY:Carlington Cup and More
DESCRIPTION:
URL:https://rileybrockington.ca/event/carlington-cup-and-more/
LOCATION:Alexander Community Centre\, 960 Silver Street\, Ottawa\, ON\, Canada
CATEGORIES:General
END:VEVENT
BEGIN:VEVENT
DTSTART;TZID=America/New_York:20200126T170000
DTEND;TZID=America/New_York:20200126T183000
DTSTAMP:20260423T152025
CREATED:20200116T205233Z
LAST-MODIFIED:20200116T205246Z
UID:15234-1580058000-1580063400@rileybrockington.ca
SUMMARY:Carlington Community Chaplaincy Community Supper
DESCRIPTION:
URL:https://rileybrockington.ca/event/carlington-community-chaplaincy-community-supper/
LOCATION:bellevue community centre\, 1475 Caldwell Avenue\, Ottawa\, On\, Canada
END:VEVENT
BEGIN:VEVENT
DTSTART;TZID=America/New_York:20200128T183000
DTEND;TZID=America/New_York:20200128T200000
DTSTAMP:20260423T152025
CREATED:20200127T203227Z
LAST-MODIFIED:20200127T203227Z
UID:15340-1580236200-1580241600@rileybrockington.ca
SUMMARY:Carlington Paint Night
DESCRIPTION:
URL:https://rileybrockington.ca/event/carlington-paint-night/
LOCATION:bellevue community centre\, 1475 Caldwell Avenue\, Ottawa\, On\, Canada
CATEGORIES:General
END:VEVENT
END:VCALENDAR