BEGIN:VCALENDAR
VERSION:2.0
PRODID:-//Riley Brockington, City Councillor (River Ward) - ECPv6.8.3//NONSGML v1.0//EN
CALSCALE:GREGORIAN
METHOD:PUBLISH
X-ORIGINAL-URL:https://rileybrockington.ca
X-WR-CALDESC:Events for Riley Brockington, City Councillor (River Ward)
REFRESH-INTERVAL;VALUE=DURATION:PT1H
X-Robots-Tag:noindex
X-PUBLISHED-TTL:PT1H
BEGIN:VTIMEZONE
TZID:America/New_York
BEGIN:DAYLIGHT
TZOFFSETFROM:-0500
TZOFFSETTO:-0400
TZNAME:EDT
DTSTART:20210314T070000
END:DAYLIGHT
BEGIN:STANDARD
TZOFFSETFROM:-0400
TZOFFSETTO:-0500
TZNAME:EST
DTSTART:20211107T060000
END:STANDARD
END:VTIMEZONE
BEGIN:VEVENT
DTSTART;TZID=America/New_York:20210424T100000
DTEND;TZID=America/New_York:20210424T160000
DTSTAMP:20260422T144425
CREATED:20210302T151441Z
LAST-MODIFIED:20210302T151441Z
UID:17208-1619258400-1619280000@rileybrockington.ca
SUMMARY:SAVE THE DATE - River Ward Earth Day Celebration
DESCRIPTION:Please hold the date for an Electronics Waste Depot at the Hunt Club – Riverside Park Community Centre (3320 Paul Anka Drive) on Saturday\, April 24 from 10am to 4pm. \nWe will be partnering with Junk that Funk again this year\, following all COVID protocol and safety guidelines.
URL:https://rileybrockington.ca/event/save-the-date-river-ward-earth-day-celebration/
CATEGORIES:General
END:VEVENT
END:VCALENDAR