BEGIN:VCALENDAR
VERSION:2.0
PRODID:-//Riley Brockington, City Councillor (River Ward) - ECPv6.8.3//NONSGML v1.0//EN
CALSCALE:GREGORIAN
METHOD:PUBLISH
X-WR-CALNAME:Riley Brockington, City Councillor (River Ward)
X-ORIGINAL-URL:https://rileybrockington.ca
X-WR-CALDESC:Events for Riley Brockington, City Councillor (River Ward)
REFRESH-INTERVAL;VALUE=DURATION:PT1H
X-Robots-Tag:noindex
X-PUBLISHED-TTL:PT1H
BEGIN:VTIMEZONE
TZID:America/New_York
BEGIN:DAYLIGHT
TZOFFSETFROM:-0500
TZOFFSETTO:-0400
TZNAME:EDT
DTSTART:20210314T070000
END:DAYLIGHT
BEGIN:STANDARD
TZOFFSETFROM:-0400
TZOFFSETTO:-0500
TZNAME:EST
DTSTART:20211107T060000
END:STANDARD
END:VTIMEZONE
BEGIN:VEVENT
DTSTART;TZID=America/New_York:20210504T093000
DTEND;TZID=America/New_York:20210504T113000
DTSTAMP:20260422T115554
CREATED:20210428T144625Z
LAST-MODIFIED:20210428T144625Z
UID:17389-1620120600-1620127800@rileybrockington.ca
SUMMARY:Ottawa Hospital Civic Campus Development Update at FEDCO
DESCRIPTION:May 4 – Ottawa Hospital Civic Campus Development Update\nAn update from the Ottawa Hospital on the new Civic Campus Development Project will be presented at the Finance and Economic Development Committee Meeting on May 4\, starting at 9:30am. If you wish to speak to the committee regarding this topic\, please contact my office for assistance in registering as a public delegation. If you want to watch the live meeting\, you can tune in on YouTube at the following links: \n\nEnglish: https://www.youtube.com/channel/UCUR3i_hvk3-3i8vtrPg6v1Q\nFrench: https://www.youtube.com/channel/UCgL9ryUpMGB7pYTqtARNykA
URL:https://rileybrockington.ca/event/ottawa-hospital-civic-campus-development-update-at-fedco/
CATEGORIES:General
END:VEVENT
BEGIN:VEVENT
DTSTART;TZID=America/New_York:20210505T090000
DTEND;TZID=America/New_York:20210505T190000
DTSTAMP:20260422T115554
CREATED:20210505T132719Z
LAST-MODIFIED:20210505T132810Z
UID:17412-1620205200-1620241200@rileybrockington.ca
SUMMARY:Drop In Vaccination Clinics - May 5 and 7 only - Select Communities
DESCRIPTION:AMA Community Centre\, 1216 Hunt Club Road\nMay 5 and May 7\n9am to 7pm\, or until quantities last.\nNo Appointment required\, Drop in only\n\n\n600 avail vaccines per day\nProof of Address required\nBring at least one piece of ID:  Driver’s licence\, Health card\, Passport etc\nIf you have a health card\, please bring it but it is not a requirement in order to get vaccinated.\n\n\nAnyone turning 18 this year and older can get a vaccine at this clinic if they live in:\n\n\nLedbury-Herongate-Ridgemont\nGreenboro East\nHunt Club Park\nHunt Club East-Western Community\nEmerald Woods-Sawmill Creek.\n\n\nSpread the word so we can get everyone vaccinated!
URL:https://rileybrockington.ca/event/drop-in-vaccination-clinics-may-5-and-7-only-select-communities/
LOCATION:1216 Bank Street\, 1216 Bank Street\, Ottawa\, ON\, Canada
CATEGORIES:General
END:VEVENT
BEGIN:VEVENT
DTSTART;TZID=America/New_York:20210507T090000
DTEND;TZID=America/New_York:20210507T190000
DTSTAMP:20260422T115554
CREATED:20210505T133203Z
LAST-MODIFIED:20210505T133228Z
UID:17423-1620378000-1620414000@rileybrockington.ca
SUMMARY:Drop-In Vaccination Clinic - Ridgemont and Hunt Club East-Western Community
DESCRIPTION:
URL:https://rileybrockington.ca/event/drop-in-vaccination-clinic-ridgemont-and-hunt-club-east-western-community-communities/
CATEGORIES:General
END:VEVENT
BEGIN:VEVENT
DTSTART;TZID=America/New_York:20210508T160000
DTEND;TZID=America/New_York:20210508T170000
DTSTAMP:20260422T115554
CREATED:20210507T142017Z
LAST-MODIFIED:20210507T142017Z
UID:17427-1620489600-1620493200@rileybrockington.ca
SUMMARY:Vaccine Townhall - Saturday\, May 8
DESCRIPTION:Bilingual event hosted by the African Canadian Association of Ottawa (ACAO) \nThe ACAO has invited the country’s top black doctors to answer residents’ questions regarding COVID-19 Vaccines at an upcoming Vaccine Townhall on Saturday May 8th at 4pm. Ottawa’s Medical Office of Health\, Dr. Vera Etches\, will also share the City’s plan regarding vaccine distribution. This event will take place in English and French. \n\nEvent link: http://bit.ly/ACAOTownhall
URL:https://rileybrockington.ca/event/vaccine-townhall-saturday-may-8/
CATEGORIES:General
END:VEVENT
END:VCALENDAR