BEGIN:VCALENDAR
VERSION:2.0
PRODID:-//Riley Brockington, City Councillor (River Ward) - ECPv6.8.3//NONSGML v1.0//EN
CALSCALE:GREGORIAN
METHOD:PUBLISH
X-ORIGINAL-URL:https://rileybrockington.ca
X-WR-CALDESC:Events for Riley Brockington, City Councillor (River Ward)
REFRESH-INTERVAL;VALUE=DURATION:PT1H
X-Robots-Tag:noindex
X-PUBLISHED-TTL:PT1H
BEGIN:VTIMEZONE
TZID:America/New_York
BEGIN:DAYLIGHT
TZOFFSETFROM:-0500
TZOFFSETTO:-0400
TZNAME:EDT
DTSTART:20220313T070000
END:DAYLIGHT
BEGIN:STANDARD
TZOFFSETFROM:-0400
TZOFFSETTO:-0500
TZNAME:EST
DTSTART:20221106T060000
END:STANDARD
END:VTIMEZONE
BEGIN:VEVENT
DTSTART;TZID=America/New_York:20220423T100000
DTEND;TZID=America/New_York:20220423T160000
DTSTAMP:20260419T171119
CREATED:20220413T191030Z
LAST-MODIFIED:20220413T191031Z
UID:17798-1650708000-1650729600@rileybrockington.ca
SUMMARY:River Ward Earth Day Celebrations
DESCRIPTION:
URL:https://rileybrockington.ca/event/river-ward-earth-day-celebrations/
LOCATION:Hunt Club-Riverside Park Community Centre\, 3320 Paul Anka Drive\, Ottawa\, ON\, Canada
ATTACH;FMTTYPE=image/png:https://rileybrockington.ca/wp-content/uploads/2022/04/Copy-of-Green-Banner-Planet-Earth-Day-Poster-YouTube-Thumbnail-1.png
END:VEVENT
BEGIN:VEVENT
DTSTART;TZID=America/New_York:20220428T190000
DTEND;TZID=America/New_York:20220428T200000
DTSTAMP:20260419T171119
CREATED:20220413T182024Z
LAST-MODIFIED:20220413T185413Z
UID:17796-1651172400-1651176000@rileybrockington.ca
SUMMARY:Airport Parkway and Walkley Road Pilot Project - Community Information Session
DESCRIPTION:  \nA community information session focusing on the Walkley Road pilot project is planned for April 28\, 2022 at 7pm. \nThis session will be virtual and hosted on Zoom. \nYou may register for this event here: https://tinyurl.com/yk4jd6ku
URL:https://rileybrockington.ca/event/airport-parkway-and-walkley-road-pilot-project-community-information-session/
LOCATION:Online Via Zoom
ATTACH;FMTTYPE=image/png:https://rileybrockington.ca/wp-content/uploads/2022/02/thumb.png
END:VEVENT
END:VCALENDAR